BEGIN:VCALENDAR
VERSION:2.0
PRODID:-//Ezekiel Academy - ECPv6.15.20//NONSGML v1.0//EN
CALSCALE:GREGORIAN
METHOD:PUBLISH
X-ORIGINAL-URL:https://ezekielacademy.org
X-WR-CALDESC:Events for Ezekiel Academy
REFRESH-INTERVAL;VALUE=DURATION:PT1H
X-Robots-Tag:noindex
X-PUBLISHED-TTL:PT1H
BEGIN:VTIMEZONE
TZID:America/Chicago
BEGIN:DAYLIGHT
TZOFFSETFROM:-0600
TZOFFSETTO:-0500
TZNAME:CDT
DTSTART:20220313T080000
END:DAYLIGHT
BEGIN:STANDARD
TZOFFSETFROM:-0500
TZOFFSETTO:-0600
TZNAME:CST
DTSTART:20221106T070000
END:STANDARD
BEGIN:DAYLIGHT
TZOFFSETFROM:-0600
TZOFFSETTO:-0500
TZNAME:CDT
DTSTART:20230312T080000
END:DAYLIGHT
BEGIN:STANDARD
TZOFFSETFROM:-0500
TZOFFSETTO:-0600
TZNAME:CST
DTSTART:20231105T070000
END:STANDARD
BEGIN:DAYLIGHT
TZOFFSETFROM:-0600
TZOFFSETTO:-0500
TZNAME:CDT
DTSTART:20240310T080000
END:DAYLIGHT
BEGIN:STANDARD
TZOFFSETFROM:-0500
TZOFFSETTO:-0600
TZNAME:CST
DTSTART:20241103T070000
END:STANDARD
END:VTIMEZONE
BEGIN:VEVENT
DTSTART;TZID=America/Chicago:20230811T144500
DTEND;TZID=America/Chicago:20230812T194500
DTSTAMP:20260420T050849
CREATED:20230809T165023Z
LAST-MODIFIED:20230809T165023Z
UID:10000048-1691765100-1691869500@ezekielacademy.org
SUMMARY:Volleyball:  Tiger Jam Tournament - EA vs Brooklane (Varsity)
DESCRIPTION:
URL:https://ezekielacademy.org/event/volleyball-tiger-jam-tournament-ea-vs-brooklane-varsity/
END:VEVENT
BEGIN:VEVENT
DTSTART;TZID=America/Chicago:20230811T163000
DTEND;TZID=America/Chicago:20230811T163000
DTSTAMP:20260420T050849
CREATED:20230809T164931Z
LAST-MODIFIED:20230809T164931Z
UID:10000047-1691771400-1691771400@ezekielacademy.org
SUMMARY:Volleyball:  Tiger Jam Tournament - Adullam vs EA (Varsity)
DESCRIPTION:
URL:https://ezekielacademy.org/event/volleyball-tiger-jam-tournament-adullam-vs-ea-varsity/
END:VEVENT
BEGIN:VEVENT
DTSTART;TZID=America/Chicago:20230811T184500
DTEND;TZID=America/Chicago:20230811T184500
DTSTAMP:20260420T050849
CREATED:20230809T164841Z
LAST-MODIFIED:20230809T164841Z
UID:10000046-1691779500-1691779500@ezekielacademy.org
SUMMARY:Volleyball:  Tiger Jam Tournament - EA vs Tuscaloosa Christian (Varsity)
DESCRIPTION:
URL:https://ezekielacademy.org/event/volleyball-tiger-jam-tournament-ea-vs-tuscaloosa-christian-varsity/
END:VEVENT
END:VCALENDAR