BEGIN:VCALENDAR
VERSION:2.0
PRODID:-//Ezekiel Academy - ECPv6.15.20//NONSGML v1.0//EN
CALSCALE:GREGORIAN
METHOD:PUBLISH
X-ORIGINAL-URL:https://ezekielacademy.org
X-WR-CALDESC:Events for Ezekiel Academy
REFRESH-INTERVAL;VALUE=DURATION:PT1H
X-Robots-Tag:noindex
X-PUBLISHED-TTL:PT1H
BEGIN:VTIMEZONE
TZID:America/Chicago
BEGIN:DAYLIGHT
TZOFFSETFROM:-0600
TZOFFSETTO:-0500
TZNAME:CDT
DTSTART:20220313T080000
END:DAYLIGHT
BEGIN:STANDARD
TZOFFSETFROM:-0500
TZOFFSETTO:-0600
TZNAME:CST
DTSTART:20221106T070000
END:STANDARD
BEGIN:DAYLIGHT
TZOFFSETFROM:-0600
TZOFFSETTO:-0500
TZNAME:CDT
DTSTART:20230312T080000
END:DAYLIGHT
BEGIN:STANDARD
TZOFFSETFROM:-0500
TZOFFSETTO:-0600
TZNAME:CST
DTSTART:20231105T070000
END:STANDARD
BEGIN:DAYLIGHT
TZOFFSETFROM:-0600
TZOFFSETTO:-0500
TZNAME:CDT
DTSTART:20240310T080000
END:DAYLIGHT
BEGIN:STANDARD
TZOFFSETFROM:-0500
TZOFFSETTO:-0600
TZNAME:CST
DTSTART:20241103T070000
END:STANDARD
END:VTIMEZONE
BEGIN:VEVENT
DTSTART;TZID=America/Chicago:20230825T150000
DTEND;TZID=America/Chicago:20230825T150000
DTSTAMP:20260420T050850
CREATED:20230809T162604Z
LAST-MODIFIED:20230809T162604Z
UID:10000039-1692975600-1692975600@ezekielacademy.org
SUMMARY:Volleyball:  EA vs Evangel Lions (MS\, JV and Varsity)
DESCRIPTION:
URL:https://ezekielacademy.org/event/volleyball-ea-vs-evangel-lions-ms-jv-and-varsity/
END:VEVENT
BEGIN:VEVENT
DTSTART;TZID=America/Chicago:20230825T190000
DTEND;TZID=America/Chicago:20230825T190000
DTSTAMP:20260420T050850
CREATED:20230809T162513Z
LAST-MODIFIED:20230824T164927Z
UID:10000038-1692990000-1692990000@ezekielacademy.org
SUMMARY:EA vs Russell Christian
DESCRIPTION:
URL:https://ezekielacademy.org/event/football-ea-vs-russell-christian-varsity/
CATEGORIES:Football
END:VEVENT
END:VCALENDAR