BEGIN:VCALENDAR
VERSION:2.0
PRODID:-//Ezekiel Academy - ECPv6.15.20//NONSGML v1.0//EN
CALSCALE:GREGORIAN
METHOD:PUBLISH
X-ORIGINAL-URL:https://ezekielacademy.org
X-WR-CALDESC:Events for Ezekiel Academy
REFRESH-INTERVAL;VALUE=DURATION:PT1H
X-Robots-Tag:noindex
X-PUBLISHED-TTL:PT1H
BEGIN:VTIMEZONE
TZID:America/Chicago
BEGIN:DAYLIGHT
TZOFFSETFROM:-0600
TZOFFSETTO:-0500
TZNAME:CDT
DTSTART:20220313T080000
END:DAYLIGHT
BEGIN:STANDARD
TZOFFSETFROM:-0500
TZOFFSETTO:-0600
TZNAME:CST
DTSTART:20221106T070000
END:STANDARD
BEGIN:DAYLIGHT
TZOFFSETFROM:-0600
TZOFFSETTO:-0500
TZNAME:CDT
DTSTART:20230312T080000
END:DAYLIGHT
BEGIN:STANDARD
TZOFFSETFROM:-0500
TZOFFSETTO:-0600
TZNAME:CST
DTSTART:20231105T070000
END:STANDARD
BEGIN:DAYLIGHT
TZOFFSETFROM:-0600
TZOFFSETTO:-0500
TZNAME:CDT
DTSTART:20240310T080000
END:DAYLIGHT
BEGIN:STANDARD
TZOFFSETFROM:-0500
TZOFFSETTO:-0600
TZNAME:CST
DTSTART:20241103T070000
END:STANDARD
END:VTIMEZONE
BEGIN:VEVENT
DTSTART;TZID=America/Chicago:20230913T113000
DTEND;TZID=America/Chicago:20230913T130000
DTSTAMP:20260420T035338
CREATED:20230911T145725Z
LAST-MODIFIED:20240807T204755Z
UID:10000065-1694604600-1694610000@ezekielacademy.org
SUMMARY:HIGH SCHOOL WORKSHOP
DESCRIPTION:
URL:https://ezekielacademy.org/event/high-school-workshop/
LOCATION:Young Meadows Presbyterian Church\, 5780 Vaughn Road\, Montgomery\, AL\, 36117
CATEGORIES:High School Information
END:VEVENT
BEGIN:VEVENT
DTSTART;TZID=America/Chicago:20230913T130000
DTEND;TZID=America/Chicago:20230913T140000
DTSTAMP:20260420T035338
CREATED:20230911T161112Z
LAST-MODIFIED:20230911T161112Z
UID:10000066-1694610000-1694613600@ezekielacademy.org
SUMMARY:MANDATORY SENIOR MEETING
DESCRIPTION:This event is for all members of the 2024 graduating class. Information and due dates will be discussed! A senior student and parent are required to attend. Bring any questions you may have!
URL:https://ezekielacademy.org/event/mandatory-senior-meeting/
LOCATION:Young Meadows Presbyterian Church\, 5780 Vaughn Road\, Montgomery\, AL\, 36117
END:VEVENT
END:VCALENDAR