BEGIN:VCALENDAR
VERSION:2.0
PRODID:-//Ezekiel Academy - ECPv6.15.20//NONSGML v1.0//EN
CALSCALE:GREGORIAN
METHOD:PUBLISH
X-ORIGINAL-URL:https://ezekielacademy.org
X-WR-CALDESC:Events for Ezekiel Academy
REFRESH-INTERVAL;VALUE=DURATION:PT1H
X-Robots-Tag:noindex
X-PUBLISHED-TTL:PT1H
BEGIN:VTIMEZONE
TZID:America/Chicago
BEGIN:DAYLIGHT
TZOFFSETFROM:-0600
TZOFFSETTO:-0500
TZNAME:CDT
DTSTART:20220313T080000
END:DAYLIGHT
BEGIN:STANDARD
TZOFFSETFROM:-0500
TZOFFSETTO:-0600
TZNAME:CST
DTSTART:20221106T070000
END:STANDARD
BEGIN:DAYLIGHT
TZOFFSETFROM:-0600
TZOFFSETTO:-0500
TZNAME:CDT
DTSTART:20230312T080000
END:DAYLIGHT
BEGIN:STANDARD
TZOFFSETFROM:-0500
TZOFFSETTO:-0600
TZNAME:CST
DTSTART:20231105T070000
END:STANDARD
BEGIN:DAYLIGHT
TZOFFSETFROM:-0600
TZOFFSETTO:-0500
TZNAME:CDT
DTSTART:20240310T080000
END:DAYLIGHT
BEGIN:STANDARD
TZOFFSETFROM:-0500
TZOFFSETTO:-0600
TZNAME:CST
DTSTART:20241103T070000
END:STANDARD
END:VTIMEZONE
BEGIN:VEVENT
DTSTART;TZID=America/Chicago:20230914T150000
DTEND;TZID=America/Chicago:20230914T150000
DTSTAMP:20260420T035338
CREATED:20230809T141923Z
LAST-MODIFIED:20230908T182548Z
UID:10000026-1694703600-1694703600@ezekielacademy.org
SUMMARY:Cross Country:  at Eastwood Christian School Warrior Invitational - Gateway Park Montgomery\, AL Meet (JV and Varsity)
DESCRIPTION:
URL:https://ezekielacademy.org/event/cross-country-eastwood-christian-school-meet-jv-and-varsity/
CATEGORIES:Cross Country
END:VEVENT
BEGIN:VEVENT
DTSTART;TZID=America/Chicago:20230914T170000
DTEND;TZID=America/Chicago:20230914T170000
DTSTAMP:20260420T035338
CREATED:20230809T141842Z
LAST-MODIFIED:20230910T193820Z
UID:10000025-1694710800-1694710800@ezekielacademy.org
SUMMARY:Volleyball:  EA @Southern Christian (JV and Varsity)
DESCRIPTION:
URL:https://ezekielacademy.org/event/volleyball-ea-vs-southern-christian-jv-and-varsity/
LOCATION:Southern Christian Academy\, 14 N 8th St\, Opelika\, Alabama\, 36801
CATEGORIES:Volleyball
END:VEVENT
BEGIN:VEVENT
DTSTART;TZID=America/Chicago:20230914T190000
DTEND;TZID=America/Chicago:20230914T210000
DTSTAMP:20260420T035338
CREATED:20230913T000941Z
LAST-MODIFIED:20230913T001001Z
UID:10000067-1694718000-1694725200@ezekielacademy.org
SUMMARY:Varsity Basketball Practice
DESCRIPTION:
URL:https://ezekielacademy.org/event/varisty-basketball-practice/
LOCATION:True Divine\, 4601 Troy Highway\, Montgomery\, 36117\, United States
CATEGORIES:Boys Basketball
END:VEVENT
END:VCALENDAR