BEGIN:VCALENDAR
VERSION:2.0
PRODID:-//Ezekiel Academy - ECPv6.15.20//NONSGML v1.0//EN
CALSCALE:GREGORIAN
METHOD:PUBLISH
X-ORIGINAL-URL:https://ezekielacademy.org
X-WR-CALDESC:Events for Ezekiel Academy
REFRESH-INTERVAL;VALUE=DURATION:PT1H
X-Robots-Tag:noindex
X-PUBLISHED-TTL:PT1H
BEGIN:VTIMEZONE
TZID:America/Chicago
BEGIN:DAYLIGHT
TZOFFSETFROM:-0600
TZOFFSETTO:-0500
TZNAME:CDT
DTSTART:20220313T080000
END:DAYLIGHT
BEGIN:STANDARD
TZOFFSETFROM:-0500
TZOFFSETTO:-0600
TZNAME:CST
DTSTART:20221106T070000
END:STANDARD
BEGIN:DAYLIGHT
TZOFFSETFROM:-0600
TZOFFSETTO:-0500
TZNAME:CDT
DTSTART:20230312T080000
END:DAYLIGHT
BEGIN:STANDARD
TZOFFSETFROM:-0500
TZOFFSETTO:-0600
TZNAME:CST
DTSTART:20231105T070000
END:STANDARD
BEGIN:DAYLIGHT
TZOFFSETFROM:-0600
TZOFFSETTO:-0500
TZNAME:CDT
DTSTART:20240310T080000
END:DAYLIGHT
BEGIN:STANDARD
TZOFFSETFROM:-0500
TZOFFSETTO:-0600
TZNAME:CST
DTSTART:20241103T070000
END:STANDARD
END:VTIMEZONE
BEGIN:VEVENT
DTSTART;TZID=America/Chicago:20231016T093000
DTEND;TZID=America/Chicago:20231016T120000
DTSTAMP:20260420T023416
CREATED:20230919T212149Z
LAST-MODIFIED:20230919T212435Z
UID:10000075-1697448600-1697457600@ezekielacademy.org
SUMMARY:Picture Make-Up Day for K3-11th Grade
DESCRIPTION:Make-up day if you missed the Sept. 11 pictures. Prestige Photography will be taking student pictures @ Vaughn Forest Baptist Church\, 8660 Vaughn Road\, Montgomery. Walk-ins welcome. Pictures are available in pre-paid packages of your choice. Students who desire to be in EA yearbook must come for a picture but are not required to purchase a packet. If you wish to schedule a time\, email EAKnightsYearbook@gmail.com. If you are unable to make either of the picture days\, you may email a good\, clear\, individual headshot of your child to be used in the yearbook. This must be received by January 31\, 2024. \n 
URL:https://ezekielacademy.org/event/picture-make-up-day-for-k3-11th-grade/
LOCATION:Vaughn Forest Baptist Church\, 8660 Vaughn Road\, Montgomery\, Alabama
ORGANIZER;CN="Yearbook Club":MAILTO:EAKnightsYearbook@gmail.com
END:VEVENT
END:VCALENDAR