BEGIN:VCALENDAR
VERSION:2.0
PRODID:-//Ezekiel Academy - ECPv6.15.20//NONSGML v1.0//EN
CALSCALE:GREGORIAN
METHOD:PUBLISH
X-ORIGINAL-URL:https://ezekielacademy.org
X-WR-CALDESC:Events for Ezekiel Academy
REFRESH-INTERVAL;VALUE=DURATION:PT1H
X-Robots-Tag:noindex
X-PUBLISHED-TTL:PT1H
BEGIN:VTIMEZONE
TZID:America/Chicago
BEGIN:DAYLIGHT
TZOFFSETFROM:-0600
TZOFFSETTO:-0500
TZNAME:CDT
DTSTART:20230312T080000
END:DAYLIGHT
BEGIN:STANDARD
TZOFFSETFROM:-0500
TZOFFSETTO:-0600
TZNAME:CST
DTSTART:20231105T070000
END:STANDARD
BEGIN:DAYLIGHT
TZOFFSETFROM:-0600
TZOFFSETTO:-0500
TZNAME:CDT
DTSTART:20240310T080000
END:DAYLIGHT
BEGIN:STANDARD
TZOFFSETFROM:-0500
TZOFFSETTO:-0600
TZNAME:CST
DTSTART:20241103T070000
END:STANDARD
BEGIN:DAYLIGHT
TZOFFSETFROM:-0600
TZOFFSETTO:-0500
TZNAME:CDT
DTSTART:20250309T080000
END:DAYLIGHT
BEGIN:STANDARD
TZOFFSETFROM:-0500
TZOFFSETTO:-0600
TZNAME:CST
DTSTART:20251102T070000
END:STANDARD
END:VTIMEZONE
BEGIN:VEVENT
DTSTART;VALUE=DATE:20240301
DTEND;VALUE=DATE:20240302
DTSTAMP:20260419T191327
CREATED:20230920T165214Z
LAST-MODIFIED:20230920T165227Z
UID:10000094-1709251200-1709337599@ezekielacademy.org
SUMMARY:TeenPact AL  II One Day Class
DESCRIPTION:For students ages 8-12. For more information and to register call 402-517-2553 or see the link below.
URL:https://ezekielacademy.org/event/teenpact-al-ii-one-day-class/
END:VEVENT
BEGIN:VEVENT
DTSTART;VALUE=DATE:20240301
DTEND;VALUE=DATE:20240302
DTSTAMP:20260419T191327
CREATED:20230920T170744Z
LAST-MODIFIED:20230920T171748Z
UID:10000095-1709251200-1709337599@ezekielacademy.org
SUMMARY:The Iowa Test of Basic Skills
DESCRIPTION:The Iowa Test is the standardized testing option available through Bob Jones University. The Iowa Test is available any time of the year for grades K-12. Areas included language\, math\, science\, and social studies. These tests can be administered by a parent who holds a Bachelor’s degree. \nIf you would like to order the Iowa Test of Basic Skills for your child(ren)\, contact Bob Jones University Press (800-845-5731) directly and they will assist you in ordering the test for your student(s). \nAny Ezekiel parent who desires to have their child(ren) tested by an approved administrator must first contact the EA office (334-315-0010) to confirm a testing date and location BEFORE ordering the Iowa Tests. The recommended testing dates are March 1st through June 30th. Use of an approved administrator will cost $50.00 per day of testing.
URL:https://ezekielacademy.org/event/the-iowa-test-of-basic-skills/
END:VEVENT
BEGIN:VEVENT
DTSTART;VALUE=DATE:20240301
DTEND;VALUE=DATE:20240303
DTSTAMP:20260419T191327
CREATED:20240212T224441Z
LAST-MODIFIED:20240213T160539Z
UID:10000157-1709251200-1709423999@ezekielacademy.org
SUMMARY:Soccer VB Charity Cup Tournament
DESCRIPTION:
URL:https://ezekielacademy.org/event/soccer-vb-charity-cup-t/
LOCATION:The Fields at 17 Springs\, 2021 AL-14\, Millbrook\, AL\, 36054
CATEGORIES:Soccer
END:VEVENT
BEGIN:VEVENT
DTSTART;VALUE=DATE:20240301
DTEND;VALUE=DATE:20240303
DTSTAMP:20260419T191327
CREATED:20240214T174556Z
LAST-MODIFIED:20240214T174556Z
UID:10000181-1709251200-1709423999@ezekielacademy.org
SUMMARY:Soccer VG Millbrook Tournament
DESCRIPTION:Game times TBA.
URL:https://ezekielacademy.org/event/soccer-vg-millbrook-tournament/
LOCATION:The Fields at 17 Springs\, 2021 AL-14\, Millbrook\, AL\, 36054
CATEGORIES:Soccer
END:VEVENT
END:VCALENDAR