BEGIN:VCALENDAR
VERSION:2.0
PRODID:-//Ezekiel Academy - ECPv6.15.20//NONSGML v1.0//EN
CALSCALE:GREGORIAN
METHOD:PUBLISH
X-ORIGINAL-URL:https://ezekielacademy.org
X-WR-CALDESC:Events for Ezekiel Academy
REFRESH-INTERVAL;VALUE=DURATION:PT1H
X-Robots-Tag:noindex
X-PUBLISHED-TTL:PT1H
BEGIN:VTIMEZONE
TZID:America/Chicago
BEGIN:DAYLIGHT
TZOFFSETFROM:-0600
TZOFFSETTO:-0500
TZNAME:CDT
DTSTART:20230312T080000
END:DAYLIGHT
BEGIN:STANDARD
TZOFFSETFROM:-0500
TZOFFSETTO:-0600
TZNAME:CST
DTSTART:20231105T070000
END:STANDARD
BEGIN:DAYLIGHT
TZOFFSETFROM:-0600
TZOFFSETTO:-0500
TZNAME:CDT
DTSTART:20240310T080000
END:DAYLIGHT
BEGIN:STANDARD
TZOFFSETFROM:-0500
TZOFFSETTO:-0600
TZNAME:CST
DTSTART:20241103T070000
END:STANDARD
BEGIN:DAYLIGHT
TZOFFSETFROM:-0600
TZOFFSETTO:-0500
TZNAME:CDT
DTSTART:20250309T080000
END:DAYLIGHT
BEGIN:STANDARD
TZOFFSETFROM:-0500
TZOFFSETTO:-0600
TZNAME:CST
DTSTART:20251102T070000
END:STANDARD
END:VTIMEZONE
BEGIN:VEVENT
DTSTART;TZID=America/Chicago:20240407T140000
DTEND;TZID=America/Chicago:20240407T140000
DTSTAMP:20260419T175501
CREATED:20230920T172700Z
LAST-MODIFIED:20230923T020947Z
UID:10000115-1712498400-1712498400@ezekielacademy.org
SUMMARY:Senior Group Picture
DESCRIPTION:Senior group picture will be taken on the steps of the Supreme Court Building. Arrive at 1:30pm wearing your cap and gown\, ready for placement. The picture will be taken promptly at 2:00pm. Underneath your gown\, please wear jeans and a t-shirt representing the college or military branch you will be joining. We will take group shots for each group. In case of rain\, the pictures will be taken inside the building on the stairs. There is no sitting fee for these pictures.
URL:https://ezekielacademy.org/event/senior-group-picture/
LOCATION:Supreme Court Building\, 300 Dexter Avenue\, Montgomery\, Alabama
CATEGORIES:High School Information
END:VEVENT
END:VCALENDAR