BEGIN:VCALENDAR
VERSION:2.0
PRODID:-//Ezekiel Academy - ECPv6.15.20//NONSGML v1.0//EN
CALSCALE:GREGORIAN
METHOD:PUBLISH
X-ORIGINAL-URL:https://ezekielacademy.org
X-WR-CALDESC:Events for Ezekiel Academy
REFRESH-INTERVAL;VALUE=DURATION:PT1H
X-Robots-Tag:noindex
X-PUBLISHED-TTL:PT1H
BEGIN:VTIMEZONE
TZID:America/Chicago
BEGIN:DAYLIGHT
TZOFFSETFROM:-0600
TZOFFSETTO:-0500
TZNAME:CDT
DTSTART:20230312T080000
END:DAYLIGHT
BEGIN:STANDARD
TZOFFSETFROM:-0500
TZOFFSETTO:-0600
TZNAME:CST
DTSTART:20231105T070000
END:STANDARD
BEGIN:DAYLIGHT
TZOFFSETFROM:-0600
TZOFFSETTO:-0500
TZNAME:CDT
DTSTART:20240310T080000
END:DAYLIGHT
BEGIN:STANDARD
TZOFFSETFROM:-0500
TZOFFSETTO:-0600
TZNAME:CST
DTSTART:20241103T070000
END:STANDARD
BEGIN:DAYLIGHT
TZOFFSETFROM:-0600
TZOFFSETTO:-0500
TZNAME:CDT
DTSTART:20250309T080000
END:DAYLIGHT
BEGIN:STANDARD
TZOFFSETFROM:-0500
TZOFFSETTO:-0600
TZNAME:CST
DTSTART:20251102T070000
END:STANDARD
END:VTIMEZONE
BEGIN:VEVENT
DTSTART;TZID=America/Chicago:20240410T170000
DTEND;TZID=America/Chicago:20240410T170000
DTSTAMP:20260419T163948
CREATED:20240214T190729Z
LAST-MODIFIED:20240214T190828Z
UID:10000193-1712768400-1712768400@ezekielacademy.org
SUMMARY:Soccer VG vs. Springwood Academy (H)
DESCRIPTION:
URL:https://ezekielacademy.org/event/soccer-vg-vs-springwood-academy-h/
LOCATION:AUM Fields\, 7030 Senator Drive\, Montgomery\, 36117\, United States
CATEGORIES:Soccer
END:VEVENT
BEGIN:VEVENT
DTSTART;TZID=America/Chicago:20240410T190000
DTEND;TZID=America/Chicago:20240410T190000
DTSTAMP:20260419T163948
CREATED:20240213T020038Z
LAST-MODIFIED:20240213T020038Z
UID:10000167-1712775600-1712775600@ezekielacademy.org
SUMMARY:Soccer VB vs. Springwood (H)
DESCRIPTION:Senior Night!
URL:https://ezekielacademy.org/event/soccer-vb-vs-springwood-h/
LOCATION:AUM Fields\, 7030 Senator Drive\, Montgomery\, 36117\, United States
CATEGORIES:Soccer
END:VEVENT
END:VCALENDAR