BEGIN:VCALENDAR
VERSION:2.0
PRODID:-//Ezekiel Academy - ECPv6.15.20//NONSGML v1.0//EN
CALSCALE:GREGORIAN
METHOD:PUBLISH
X-ORIGINAL-URL:https://ezekielacademy.org
X-WR-CALDESC:Events for Ezekiel Academy
REFRESH-INTERVAL;VALUE=DURATION:PT1H
X-Robots-Tag:noindex
X-PUBLISHED-TTL:PT1H
BEGIN:VTIMEZONE
TZID:America/Chicago
BEGIN:DAYLIGHT
TZOFFSETFROM:-0600
TZOFFSETTO:-0500
TZNAME:CDT
DTSTART:20230312T080000
END:DAYLIGHT
BEGIN:STANDARD
TZOFFSETFROM:-0500
TZOFFSETTO:-0600
TZNAME:CST
DTSTART:20231105T070000
END:STANDARD
BEGIN:DAYLIGHT
TZOFFSETFROM:-0600
TZOFFSETTO:-0500
TZNAME:CDT
DTSTART:20240310T080000
END:DAYLIGHT
BEGIN:STANDARD
TZOFFSETFROM:-0500
TZOFFSETTO:-0600
TZNAME:CST
DTSTART:20241103T070000
END:STANDARD
BEGIN:DAYLIGHT
TZOFFSETFROM:-0600
TZOFFSETTO:-0500
TZNAME:CDT
DTSTART:20250309T080000
END:DAYLIGHT
BEGIN:STANDARD
TZOFFSETFROM:-0500
TZOFFSETTO:-0600
TZNAME:CST
DTSTART:20251102T070000
END:STANDARD
END:VTIMEZONE
BEGIN:VEVENT
DTSTART;VALUE=DATE:20240418
DTEND;VALUE=DATE:20240419
DTSTAMP:20260419T163948
CREATED:20230920T172910Z
LAST-MODIFIED:20230920T172910Z
UID:10000099-1713398400-1713484799@ezekielacademy.org
SUMMARY:Deadline for Valedictorian/Salutatorian application packets
DESCRIPTION:
URL:https://ezekielacademy.org/event/deadline-for-valedictorian-salutatorian-application-packets/
CATEGORIES:High School Information
END:VEVENT
BEGIN:VEVENT
DTSTART;TZID=America/Chicago:20240418T110000
DTEND;TZID=America/Chicago:20240418T130000
DTSTAMP:20260419T163948
CREATED:20230920T173405Z
LAST-MODIFIED:20230920T173405Z
UID:10000100-1713438000-1713445200@ezekielacademy.org
SUMMARY:Graduation Prep Meeting
DESCRIPTION:This preparation meeting is ABSOLUTELY REQUIRED for the parents of any senior who will be graduating with the 2024 class. Please bring the following items: \n\n$55 check payable to Ezekiel Academy\nSenior’s written testimony\nSenior’s life verse written so the parent has it for reference when recording.
URL:https://ezekielacademy.org/event/graduation-prep-meeting/
LOCATION:Ezekiel Office\, 8191 Seaton Place\, Montgomery\, Alabama
END:VEVENT
END:VCALENDAR