BEGIN:VCALENDAR
VERSION:2.0
PRODID:-//Ezekiel Academy - ECPv6.15.20//NONSGML v1.0//EN
CALSCALE:GREGORIAN
METHOD:PUBLISH
X-ORIGINAL-URL:https://ezekielacademy.org
X-WR-CALDESC:Events for Ezekiel Academy
REFRESH-INTERVAL;VALUE=DURATION:PT1H
X-Robots-Tag:noindex
X-PUBLISHED-TTL:PT1H
BEGIN:VTIMEZONE
TZID:America/Chicago
BEGIN:DAYLIGHT
TZOFFSETFROM:-0600
TZOFFSETTO:-0500
TZNAME:CDT
DTSTART:20230312T080000
END:DAYLIGHT
BEGIN:STANDARD
TZOFFSETFROM:-0500
TZOFFSETTO:-0600
TZNAME:CST
DTSTART:20231105T070000
END:STANDARD
BEGIN:DAYLIGHT
TZOFFSETFROM:-0600
TZOFFSETTO:-0500
TZNAME:CDT
DTSTART:20240310T080000
END:DAYLIGHT
BEGIN:STANDARD
TZOFFSETFROM:-0500
TZOFFSETTO:-0600
TZNAME:CST
DTSTART:20241103T070000
END:STANDARD
BEGIN:DAYLIGHT
TZOFFSETFROM:-0600
TZOFFSETTO:-0500
TZNAME:CDT
DTSTART:20250309T080000
END:DAYLIGHT
BEGIN:STANDARD
TZOFFSETFROM:-0500
TZOFFSETTO:-0600
TZNAME:CST
DTSTART:20251102T070000
END:STANDARD
END:VTIMEZONE
BEGIN:VEVENT
DTSTART;VALUE=DATE:20240419
DTEND;VALUE=DATE:20240420
DTSTAMP:20260419T163948
CREATED:20240213T021414Z
LAST-MODIFIED:20240213T021414Z
UID:10000170-1713484800-1713571199@ezekielacademy.org
SUMMARY:Soccer VB  ASCS Championship Game (H)
DESCRIPTION:Time TBA
URL:https://ezekielacademy.org/event/soccer-vb-ascs-championship-game-h/
LOCATION:AUM Fields\, 7030 Senator Drive\, Montgomery\, 36117\, United States
CATEGORIES:Soccer
END:VEVENT
BEGIN:VEVENT
DTSTART;VALUE=DATE:20240419
DTEND;VALUE=DATE:20240420
DTSTAMP:20260419T163948
CREATED:20240214T191427Z
LAST-MODIFIED:20240214T191427Z
UID:10000196-1713484800-1713571199@ezekielacademy.org
SUMMARY:Soccer VG Championship Game (H)
DESCRIPTION:Game time TBA.
URL:https://ezekielacademy.org/event/soccer-vg-championship-game-h/
CATEGORIES:Soccer
END:VEVENT
END:VCALENDAR