BEGIN:VCALENDAR
VERSION:2.0
PRODID:-//Ezekiel Academy - ECPv6.15.20//NONSGML v1.0//EN
CALSCALE:GREGORIAN
METHOD:PUBLISH
X-ORIGINAL-URL:https://ezekielacademy.org
X-WR-CALDESC:Events for Ezekiel Academy
REFRESH-INTERVAL;VALUE=DURATION:PT1H
X-Robots-Tag:noindex
X-PUBLISHED-TTL:PT1H
BEGIN:VTIMEZONE
TZID:America/Chicago
BEGIN:DAYLIGHT
TZOFFSETFROM:-0600
TZOFFSETTO:-0500
TZNAME:CDT
DTSTART:20230312T080000
END:DAYLIGHT
BEGIN:STANDARD
TZOFFSETFROM:-0500
TZOFFSETTO:-0600
TZNAME:CST
DTSTART:20231105T070000
END:STANDARD
BEGIN:DAYLIGHT
TZOFFSETFROM:-0600
TZOFFSETTO:-0500
TZNAME:CDT
DTSTART:20240310T080000
END:DAYLIGHT
BEGIN:STANDARD
TZOFFSETFROM:-0500
TZOFFSETTO:-0600
TZNAME:CST
DTSTART:20241103T070000
END:STANDARD
BEGIN:DAYLIGHT
TZOFFSETFROM:-0600
TZOFFSETTO:-0500
TZNAME:CDT
DTSTART:20250309T080000
END:DAYLIGHT
BEGIN:STANDARD
TZOFFSETFROM:-0500
TZOFFSETTO:-0600
TZNAME:CST
DTSTART:20251102T070000
END:STANDARD
END:VTIMEZONE
BEGIN:VEVENT
DTSTART;VALUE=DATE:20240530
DTEND;VALUE=DATE:20240607
DTSTAMP:20260419T120935
CREATED:20230923T011735Z
LAST-MODIFIED:20230923T011735Z
UID:10000108-1717027200-1717718399@ezekielacademy.org
SUMMARY:2nd Semester Reports are Due NOW!
DESCRIPTION:Mail your report(s) to Ezekiel Academy\, P.O. Box 243034\, Montgomery\, AL 36124-3034. Please do not submit these reports by email.
URL:https://ezekielacademy.org/event/2nd-semester-reports-are-due-now/
END:VEVENT
BEGIN:VEVENT
DTSTART;TZID=America/Chicago:20240530T130000
DTEND;TZID=America/Chicago:20240530T130000
DTSTAMP:20260419T120935
CREATED:20230921T181539Z
LAST-MODIFIED:20240507T192210Z
UID:10000111-1717074000-1717074000@ezekielacademy.org
SUMMARY:Class of 2025 Election of Officers Meeting
DESCRIPTION:Get ready for an exciting senior year by making plans and preparations early. The class of 2025 leadership team will be selected at this meeting.2025 Senior Class Leadership Application Form
URL:https://ezekielacademy.org/event/class-of-2025-election-of-officers-meeting/
LOCATION:Ezekiel Office\, 8191 Seaton Place\, Montgomery\, Alabama
CATEGORIES:High School Information,Seniors
END:VEVENT
END:VCALENDAR