BEGIN:VCALENDAR
VERSION:2.0
PRODID:-//Ezekiel Academy - ECPv6.15.20//NONSGML v1.0//EN
CALSCALE:GREGORIAN
METHOD:PUBLISH
X-ORIGINAL-URL:https://ezekielacademy.org
X-WR-CALDESC:Events for Ezekiel Academy
REFRESH-INTERVAL;VALUE=DURATION:PT1H
X-Robots-Tag:noindex
X-PUBLISHED-TTL:PT1H
BEGIN:VTIMEZONE
TZID:America/Chicago
BEGIN:DAYLIGHT
TZOFFSETFROM:-0600
TZOFFSETTO:-0500
TZNAME:CDT
DTSTART:20220313T080000
END:DAYLIGHT
BEGIN:STANDARD
TZOFFSETFROM:-0500
TZOFFSETTO:-0600
TZNAME:CST
DTSTART:20221106T070000
END:STANDARD
BEGIN:DAYLIGHT
TZOFFSETFROM:-0600
TZOFFSETTO:-0500
TZNAME:CDT
DTSTART:20230312T080000
END:DAYLIGHT
BEGIN:STANDARD
TZOFFSETFROM:-0500
TZOFFSETTO:-0600
TZNAME:CST
DTSTART:20231105T070000
END:STANDARD
BEGIN:DAYLIGHT
TZOFFSETFROM:-0600
TZOFFSETTO:-0500
TZNAME:CDT
DTSTART:20240310T080000
END:DAYLIGHT
BEGIN:STANDARD
TZOFFSETFROM:-0500
TZOFFSETTO:-0600
TZNAME:CST
DTSTART:20241103T070000
END:STANDARD
BEGIN:DAYLIGHT
TZOFFSETFROM:-0600
TZOFFSETTO:-0500
TZNAME:CDT
DTSTART:20250309T080000
END:DAYLIGHT
BEGIN:STANDARD
TZOFFSETFROM:-0500
TZOFFSETTO:-0600
TZNAME:CST
DTSTART:20251102T070000
END:STANDARD
END:VTIMEZONE
BEGIN:VEVENT
DTSTART;VALUE=DATE:20231215
DTEND;VALUE=DATE:20240110
DTSTAMP:20260420T010621
CREATED:20230920T154031Z
LAST-MODIFIED:20230920T154031Z
UID:10000084-1702598400-1704844799@ezekielacademy.org
SUMMARY:Christmas/ New Year's Break: Ezekiel Office Closed
DESCRIPTION:Have a Blessed Christmas and a Happy New Year!
URL:https://ezekielacademy.org/event/christmas-new-years-break-ezekiel-office-closed/
END:VEVENT
BEGIN:VEVENT
DTSTART;TZID=America/Chicago:20231229T150000
DTEND;TZID=America/Chicago:20231229T170000
DTSTAMP:20260420T010621
CREATED:20231024T171106Z
LAST-MODIFIED:20231024T171106Z
UID:10000138-1703862000-1703869200@ezekielacademy.org
SUMMARY:Basketball:  EA vs Chambers Academy (VG and VB)
DESCRIPTION:
URL:https://ezekielacademy.org/event/basketball-ea-vs-chambers-academy-vg-and-vb/
LOCATION:Chambers Academy\, 15048 US 431\, LaFayette\, AL\, 36862\, United States
CATEGORIES:Boys Basketball,Girls Basketball
END:VEVENT
BEGIN:VEVENT
DTSTART;TZID=America/Chicago:20240104T160000
DTEND;TZID=America/Chicago:20240104T190000
DTSTAMP:20260420T010621
CREATED:20231024T171249Z
LAST-MODIFIED:20231024T171249Z
UID:10000139-1704384000-1704394800@ezekielacademy.org
SUMMARY:Basketball:  EA vs Heritage Christian (JHB\, VG and VB)
DESCRIPTION:
URL:https://ezekielacademy.org/event/basketball-ea-vs-heritage-christian-jhb-vg-and-vb/
LOCATION:HCA Athletic Complex\, 1630 Powder Plant Rd\, Bessemer\, AL\, 35022\, United States
CATEGORIES:Boys Basketball,Girls Basketball
END:VEVENT
BEGIN:VEVENT
DTSTART;TZID=America/Chicago:20240105T160000
DTEND;TZID=America/Chicago:20240105T190000
DTSTAMP:20260420T010621
CREATED:20231024T171801Z
LAST-MODIFIED:20231024T171801Z
UID:10000141-1704470400-1704481200@ezekielacademy.org
SUMMARY:Basketball:  Wiregrass Kings vs EA (MSB\, JVB and VB)
DESCRIPTION:
URL:https://ezekielacademy.org/event/basketball-wiregrass-kings-vs-ea-msb-jvb-and-vb-2/
LOCATION:True Divine\, 4601 Troy Highway\, Montgomery\, 36117\, United States
CATEGORIES:Boys Basketball
END:VEVENT
BEGIN:VEVENT
DTSTART;TZID=America/Chicago:20240108T150000
DTEND;TZID=America/Chicago:20240108T170000
DTSTAMP:20260420T010621
CREATED:20231024T171907Z
LAST-MODIFIED:20231024T171907Z
UID:10000142-1704726000-1704733200@ezekielacademy.org
SUMMARY:Basketball:  EA vs Maxwell (MSG and MSB)
DESCRIPTION:
URL:https://ezekielacademy.org/event/basketball-ea-vs-maxwell-msg-and-msb-2/
LOCATION:Maxwell AFB\, 800 Magnolia Blvd\, Montgomery\, AL\, 36112\, United States
CATEGORIES:Boys Basketball,Girls Basketball
END:VEVENT
BEGIN:VEVENT
DTSTART;TZID=America/Chicago:20240108T180000
DTEND;TZID=America/Chicago:20240108T200000
DTSTAMP:20260420T010621
CREATED:20231024T172025Z
LAST-MODIFIED:20231024T172025Z
UID:10000143-1704736800-1704744000@ezekielacademy.org
SUMMARY:Basketball:  Central Christian vs EA (JVB and VB)
DESCRIPTION:
URL:https://ezekielacademy.org/event/basketball-central-christian-vs-ea-jvb-and-vb/
LOCATION:True Divine\, 4601 Troy Highway\, Montgomery\, 36117\, United States
CATEGORIES:Boys Basketball
END:VEVENT
BEGIN:VEVENT
DTSTART;VALUE=DATE:20240109
DTEND;VALUE=DATE:20240112
DTSTAMP:20260420T010621
CREATED:20230920T154347Z
LAST-MODIFIED:20230920T154347Z
UID:10000085-1704758400-1705017599@ezekielacademy.org
SUMMARY:1st Semester Reports DUE NOW!
DESCRIPTION:Mail your report(s) to Ezekiel Academy\, P.O. Box 243034\, Montgomery\, AL 36124-3034. Please do not submit these reports by email.
URL:https://ezekielacademy.org/event/1st-semester-reports-due-now/
END:VEVENT
BEGIN:VEVENT
DTSTART;TZID=America/Chicago:20240109T160000
DTEND;TZID=America/Chicago:20240109T200000
DTSTAMP:20260420T010621
CREATED:20231024T172147Z
LAST-MODIFIED:20231024T172147Z
UID:10000144-1704816000-1704830400@ezekielacademy.org
SUMMARY:Basketball:  ECHO vs EA (JVG\, JVB\, VG and VB)
DESCRIPTION:
URL:https://ezekielacademy.org/event/basketball-echo-vs-ea-jvg-jvb-vg-and-vb/
LOCATION:True Divine\, 4601 Troy Highway\, Montgomery\, 36117\, United States
CATEGORIES:Boys Basketball,Girls Basketball
END:VEVENT
BEGIN:VEVENT
DTSTART;TZID=America/Chicago:20240112T163000
DTEND;TZID=America/Chicago:20240112T203000
DTSTAMP:20260420T010621
CREATED:20231024T172320Z
LAST-MODIFIED:20231024T172320Z
UID:10000145-1705077000-1705091400@ezekielacademy.org
SUMMARY:Basketball:  Ballard Christian vs EA (MSG\, MSB\, JVB and VG)
DESCRIPTION:
URL:https://ezekielacademy.org/event/basketball-ballard-christian-vs-ea-msg-msb-jvb-and-vg/
LOCATION:True Divine\, 4601 Troy Highway\, Montgomery\, 36117\, United States
CATEGORIES:Boys Basketball,Girls Basketball
END:VEVENT
BEGIN:VEVENT
DTSTART;TZID=America/Chicago:20240114T080000
DTEND;TZID=America/Chicago:20240114T170000
DTSTAMP:20260420T010621
CREATED:20240115T035227Z
LAST-MODIFIED:20240115T035227Z
UID:10000155-1705219200-1705251600@ezekielacademy.org
SUMMARY:Senior Class Service Project Coming Up!
DESCRIPTION:
URL:https://ezekielacademy.org/event/senior-class-service-project-coming-up/
CATEGORIES:Senior Class 2024
ATTACH;FMTTYPE=image/webp:https://ezekielacademy.org/wp-content/uploads/2024/01/IMG_6311.webp
END:VEVENT
BEGIN:VEVENT
DTSTART;TZID=America/Chicago:20240116T173000
DTEND;TZID=America/Chicago:20240116T213000
DTSTAMP:20260420T010621
CREATED:20231024T172501Z
LAST-MODIFIED:20231024T172501Z
UID:10000146-1705426200-1705440600@ezekielacademy.org
SUMMARY:Basketball:  Tuscaloosa Warriors vs EA (JVG\, JVB\, VG and VB)
DESCRIPTION:
URL:https://ezekielacademy.org/event/basketball-tuscaloosa-warriors-vs-ea-jvg-jvb-vg-and-vb/
LOCATION:True Divine\, 4601 Troy Highway\, Montgomery\, 36117\, United States
CATEGORIES:Boys Basketball,Girls Basketball
END:VEVENT
BEGIN:VEVENT
DTSTART;TZID=America/Chicago:20240118T160000
DTEND;TZID=America/Chicago:20240118T200000
DTSTAMP:20260420T010621
CREATED:20231024T172649Z
LAST-MODIFIED:20231024T172649Z
UID:10000147-1705593600-1705608000@ezekielacademy.org
SUMMARY:Basketball:  EA vs Abbeville Christian (JHG\, JHB\, VG and VB)
DESCRIPTION:
URL:https://ezekielacademy.org/event/basketball-ea-vs-abbeville-christian-jhg-jhb-vg-and-vb/
LOCATION:Abbeville Christian\, 258 ML Tillis Dr\, Abbeville\, AL\, 36310\, United States
CATEGORIES:Boys Basketball,Girls Basketball
END:VEVENT
BEGIN:VEVENT
DTSTART;TZID=America/Chicago:20240122T150000
DTEND;TZID=America/Chicago:20240122T170000
DTSTAMP:20260420T010621
CREATED:20231024T172828Z
LAST-MODIFIED:20231024T172828Z
UID:10000148-1705935600-1705942800@ezekielacademy.org
SUMMARY:Basketball:  Maxwell vs EA (MGS and MSB)
DESCRIPTION:
URL:https://ezekielacademy.org/event/basketball-maxwell-vs-ea-mgs-and-msb/
LOCATION:True Divine\, 4601 Troy Highway\, Montgomery\, 36117\, United States
CATEGORIES:Boys Basketball,Girls Basketball
END:VEVENT
BEGIN:VEVENT
DTSTART;TZID=America/Chicago:20240122T170000
DTEND;TZID=America/Chicago:20240122T200000
DTSTAMP:20260420T010621
CREATED:20231024T173012Z
LAST-MODIFIED:20231024T173012Z
UID:10000149-1705942800-1705953600@ezekielacademy.org
SUMMARY:Basketball:  The Oaks vs EA (JVG\, JVB\, VB)
DESCRIPTION:
URL:https://ezekielacademy.org/event/basketball-the-oaks-vs-ea-jvg-jvb-vb/
LOCATION:True Divine\, 4601 Troy Highway\, Montgomery\, 36117\, United States
END:VEVENT
BEGIN:VEVENT
DTSTART;TZID=America/Chicago:20240123T160000
DTEND;TZID=America/Chicago:20240123T190000
DTSTAMP:20260420T010621
CREATED:20231024T171605Z
LAST-MODIFIED:20231024T171644Z
UID:10000140-1706025600-1706036400@ezekielacademy.org
SUMMARY:Basketball:  Wiregrass Kings vs EA (MSB\, JVB and VB)
DESCRIPTION:
URL:https://ezekielacademy.org/event/basketball-wiregrass-kings-vs-ea-msb-jvb-and-vb/
LOCATION:Ridgecrest Baptist Church – Wiregrass\, 1231 Fortner St\, Dothan\, AL\, 36301\, United States
CATEGORIES:Boys Basketball
END:VEVENT
BEGIN:VEVENT
DTSTART;TZID=America/Chicago:20240125T150000
DTEND;TZID=America/Chicago:20240125T150000
DTSTAMP:20260420T010621
CREATED:20230920T155427Z
LAST-MODIFIED:20230920T155728Z
UID:10000086-1706194800-1706194800@ezekielacademy.org
SUMMARY:Senior Pictures Deadline for Yearbook
DESCRIPTION:Last day to submit senior pictures for the yearbook.
URL:https://ezekielacademy.org/event/senior-pictures-deadline-for-yearbook/
CATEGORIES:High School Information
END:VEVENT
BEGIN:VEVENT
DTSTART;TZID=America/Chicago:20240125T160000
DTEND;TZID=America/Chicago:20240125T200000
DTSTAMP:20260420T010621
CREATED:20231024T173425Z
LAST-MODIFIED:20231024T173425Z
UID:10000150-1706198400-1706212800@ezekielacademy.org
SUMMARY:Basketball:  EA vs ECHO (JVG\, JVB\, VG and VB)
DESCRIPTION:
URL:https://ezekielacademy.org/event/basketball-ea-vs-echo-jvg-jvb-vg-and-vb/
CATEGORIES:Boys Basketball,Girls Basketball
END:VEVENT
BEGIN:VEVENT
DTSTART;TZID=America/Chicago:20240129T170000
DTEND;TZID=America/Chicago:20240129T200000
DTSTAMP:20260420T010621
CREATED:20231024T173727Z
LAST-MODIFIED:20231024T173727Z
UID:10000151-1706547600-1706558400@ezekielacademy.org
SUMMARY:Basketball:  EA vs Success Unlimited (JHB\, VG and VB)
DESCRIPTION:
URL:https://ezekielacademy.org/event/basketball-ea-vs-success-unlimited-jhb-vg-and-vb/
LOCATION:Success Unlimited\, 2328 Fairlane Dr\, Montgomery\, AL\, 36116\, United States
CATEGORIES:Boys Basketball,Girls Basketball
END:VEVENT
BEGIN:VEVENT
DTSTART;TZID=America/Chicago:20240202T170000
DTEND;TZID=America/Chicago:20240202T200000
DTSTAMP:20260420T010621
CREATED:20231102T192749Z
LAST-MODIFIED:20231102T192749Z
UID:10000153-1706893200-1706904000@ezekielacademy.org
SUMMARY:Basketball:  EA vs Southern Christian (JVB\, VG and VB)
DESCRIPTION:
URL:https://ezekielacademy.org/event/basketball-ea-vs-southern-christian-jvb-vg-and-vb/
CATEGORIES:Boys Basketball,Girls Basketball
END:VEVENT
BEGIN:VEVENT
DTSTART;VALUE=DATE:20240210
DTEND;VALUE=DATE:20240211
DTSTAMP:20260420T010621
CREATED:20230920T155936Z
LAST-MODIFIED:20230920T155936Z
UID:10000087-1707523200-1707609599@ezekielacademy.org
SUMMARY:ACSC  JV Basketball Championship Games (JV Girls & JV Boys)
DESCRIPTION:
URL:https://ezekielacademy.org/event/acsc-jv-basketball-championship-games-jv-girls-jv-boys/
CATEGORIES:Boys Basketball,Girls Basketball
END:VEVENT
BEGIN:VEVENT
DTSTART;VALUE=DATE:20240216
DTEND;VALUE=DATE:20240218
DTSTAMP:20260420T010621
CREATED:20230920T160130Z
LAST-MODIFIED:20230920T160130Z
UID:10000088-1708041600-1708214399@ezekielacademy.org
SUMMARY:ACSC Basketball Championship Games (Varsity Girls & Varsity Boys)
DESCRIPTION:
URL:https://ezekielacademy.org/event/acsc-basketball-championship-games-varsity-girls-varsity-boys/
CATEGORIES:Boys Basketball,Girls Basketball
END:VEVENT
BEGIN:VEVENT
DTSTART;VALUE=DATE:20240217
DTEND;VALUE=DATE:20240218
DTSTAMP:20260420T010621
CREATED:20240213T155742Z
LAST-MODIFIED:20240213T155742Z
UID:10000172-1708128000-1708214399@ezekielacademy.org
SUMMARY:Soccer JVB vs. Lee Scott Tournament (A)
DESCRIPTION:Games at 9:00 and 11:30 am. Additional game at 2:00 pm. Championship game for 1st & 2nd place at 4:45 pm.
URL:https://ezekielacademy.org/event/soccer-jvb-vs-lee-scott-tournament-a/
LOCATION:Lee Scott\, 1601 Academy Drive\, Auburn\, AL
CATEGORIES:Soccer
END:VEVENT
BEGIN:VEVENT
DTSTART;VALUE=DATE:20240219
DTEND;VALUE=DATE:20240223
DTSTAMP:20260420T010621
CREATED:20230920T163226Z
LAST-MODIFIED:20230920T164820Z
UID:10000091-1708300800-1708646399@ezekielacademy.org
SUMMARY:TeenPact AL  I Leadership Class
DESCRIPTION:For students ages 13-19. For more information and to register call 402-517-2553 or click on the link below.
URL:https://ezekielacademy.org/event/teen-pact-al-i-leadership-class/
END:VEVENT
BEGIN:VEVENT
DTSTART;TZID=America/Chicago:20240220T180000
DTEND;TZID=America/Chicago:20240220T180000
DTSTAMP:20260420T010621
CREATED:20240212T223509Z
LAST-MODIFIED:20240212T224116Z
UID:10000156-1708452000-1708452000@ezekielacademy.org
SUMMARY:Soccer VB Southern Prep (H)
DESCRIPTION:
URL:https://ezekielacademy.org/event/soccer-vb-southern-prep/
LOCATION:AUM Fields\, 7030 Senator Drive\, Montgomery\, 36117\, United States
CATEGORIES:Soccer
END:VEVENT
BEGIN:VEVENT
DTSTART;TZID=America/Chicago:20240222T180000
DTEND;TZID=America/Chicago:20240222T180000
DTSTAMP:20260420T010621
CREATED:20240213T021648Z
LAST-MODIFIED:20240213T165752Z
UID:10000171-1708624800-1708624800@ezekielacademy.org
SUMMARY:Soccer JVB vs. Wetumpka United (A)
DESCRIPTION:
URL:https://ezekielacademy.org/event/soccer-jvb-vs-wetumpka-united-a/
LOCATION:Wetumpka Sports Complex\, 2350 Coosa River Parkway\, Wetumpka\, AL\, 36092\, United States
CATEGORIES:Soccer
END:VEVENT
BEGIN:VEVENT
DTSTART;TZID=America/Chicago:20240222T180000
DTEND;TZID=America/Chicago:20240222T180000
DTSTAMP:20260420T010621
CREATED:20240213T162359Z
LAST-MODIFIED:20240213T162619Z
UID:10000173-1708624800-1708624800@ezekielacademy.org
SUMMARY:Soccer JVB vs. Evangel (A)
DESCRIPTION:
URL:https://ezekielacademy.org/event/soccer-jvb-vs-evangel-a/
LOCATION:Calera
CATEGORIES:Soccer
END:VEVENT
BEGIN:VEVENT
DTSTART;TZID=America/Chicago:20240222T183000
DTEND;TZID=America/Chicago:20240222T183000
DTSTAMP:20260420T010621
CREATED:20230920T160837Z
LAST-MODIFIED:20230920T161019Z
UID:10000090-1708626600-1708626600@ezekielacademy.org
SUMMARY:Basketball Awards Night
DESCRIPTION:
URL:https://ezekielacademy.org/event/basketball-awards-night/
LOCATION:Young Meadows Presbyterian Church\, 5780 Vaughn Road\, Montgomery\, AL\, 36117
CATEGORIES:Boys Basketball,Girls Basketball
END:VEVENT
BEGIN:VEVENT
DTSTART;VALUE=DATE:20240223
DTEND;VALUE=DATE:20240224
DTSTAMP:20260420T010621
CREATED:20230920T163812Z
LAST-MODIFIED:20230920T164656Z
UID:10000092-1708646400-1708732799@ezekielacademy.org
SUMMARY:TeenPact AL  I  One Day Class
DESCRIPTION:For students ages 8-12. For more information and to register call 402-517-2553 or see the link below.
URL:https://ezekielacademy.org/event/teen-pact-al-i-one-day-class/
END:VEVENT
BEGIN:VEVENT
DTSTART;TZID=America/Chicago:20240223T183000
DTEND;TZID=America/Chicago:20240223T183000
DTSTAMP:20260420T010621
CREATED:20230920T160356Z
LAST-MODIFIED:20230920T160423Z
UID:10000089-1708713000-1708713000@ezekielacademy.org
SUMMARY:Cheer Awards Night
DESCRIPTION:
URL:https://ezekielacademy.org/event/cheer-awards-night/
LOCATION:Gateway Baptist Church\, 3300 Bell Road\, Montgomery\, Alabama
END:VEVENT
BEGIN:VEVENT
DTSTART;VALUE=DATE:20240224
DTEND;VALUE=DATE:20240225
DTSTAMP:20260420T010621
CREATED:20240214T173817Z
LAST-MODIFIED:20240214T173817Z
UID:10000179-1708732800-1708819199@ezekielacademy.org
SUMMARY:Soccer VG and JVG vs. Huntsville Knights (A)
DESCRIPTION:V plays at 12:00\, JV plays at 2:30. \nTentative game with Providence Christian at 6:00!
URL:https://ezekielacademy.org/event/soccer-vg-and-jvg-vs-huntsville-knights-a/
LOCATION:Huntsville\, 126 Douglas Road NW\, Huntsville\, AL
CATEGORIES:Soccer
END:VEVENT
END:VCALENDAR