BEGIN:VCALENDAR
VERSION:2.0
PRODID:-//Ezekiel Academy - ECPv6.15.20//NONSGML v1.0//EN
CALSCALE:GREGORIAN
METHOD:PUBLISH
X-ORIGINAL-URL:https://ezekielacademy.org
X-WR-CALDESC:Events for Ezekiel Academy
REFRESH-INTERVAL;VALUE=DURATION:PT1H
X-Robots-Tag:noindex
X-PUBLISHED-TTL:PT1H
BEGIN:VTIMEZONE
TZID:America/Chicago
BEGIN:DAYLIGHT
TZOFFSETFROM:-0600
TZOFFSETTO:-0500
TZNAME:CDT
DTSTART:20220313T080000
END:DAYLIGHT
BEGIN:STANDARD
TZOFFSETFROM:-0500
TZOFFSETTO:-0600
TZNAME:CST
DTSTART:20221106T070000
END:STANDARD
BEGIN:DAYLIGHT
TZOFFSETFROM:-0600
TZOFFSETTO:-0500
TZNAME:CDT
DTSTART:20230312T080000
END:DAYLIGHT
BEGIN:STANDARD
TZOFFSETFROM:-0500
TZOFFSETTO:-0600
TZNAME:CST
DTSTART:20231105T070000
END:STANDARD
BEGIN:DAYLIGHT
TZOFFSETFROM:-0600
TZOFFSETTO:-0500
TZNAME:CDT
DTSTART:20240310T080000
END:DAYLIGHT
BEGIN:STANDARD
TZOFFSETFROM:-0500
TZOFFSETTO:-0600
TZNAME:CST
DTSTART:20241103T070000
END:STANDARD
END:VTIMEZONE
BEGIN:VEVENT
DTSTART;TZID=America/Chicago:20230913T130000
DTEND;TZID=America/Chicago:20230913T140000
DTSTAMP:20260420T110508
CREATED:20230911T161112Z
LAST-MODIFIED:20230911T161112Z
UID:10000066-1694610000-1694613600@ezekielacademy.org
SUMMARY:MANDATORY SENIOR MEETING
DESCRIPTION:This event is for all members of the 2024 graduating class. Information and due dates will be discussed! A senior student and parent are required to attend. Bring any questions you may have!
URL:https://ezekielacademy.org/event/mandatory-senior-meeting/
LOCATION:Young Meadows Presbyterian Church\, 5780 Vaughn Road\, Montgomery\, AL\, 36117
END:VEVENT
BEGIN:VEVENT
DTSTART;TZID=America/Chicago:20230914T150000
DTEND;TZID=America/Chicago:20230914T150000
DTSTAMP:20260420T110508
CREATED:20230809T141923Z
LAST-MODIFIED:20230908T182548Z
UID:10000026-1694703600-1694703600@ezekielacademy.org
SUMMARY:Cross Country:  at Eastwood Christian School Warrior Invitational - Gateway Park Montgomery\, AL Meet (JV and Varsity)
DESCRIPTION:
URL:https://ezekielacademy.org/event/cross-country-eastwood-christian-school-meet-jv-and-varsity/
CATEGORIES:Cross Country
END:VEVENT
BEGIN:VEVENT
DTSTART;TZID=America/Chicago:20230914T170000
DTEND;TZID=America/Chicago:20230914T170000
DTSTAMP:20260420T110508
CREATED:20230809T141842Z
LAST-MODIFIED:20230910T193820Z
UID:10000025-1694710800-1694710800@ezekielacademy.org
SUMMARY:Volleyball:  EA @Southern Christian (JV and Varsity)
DESCRIPTION:
URL:https://ezekielacademy.org/event/volleyball-ea-vs-southern-christian-jv-and-varsity/
LOCATION:Southern Christian Academy\, 14 N 8th St\, Opelika\, Alabama\, 36801
CATEGORIES:Volleyball
END:VEVENT
BEGIN:VEVENT
DTSTART;TZID=America/Chicago:20230914T190000
DTEND;TZID=America/Chicago:20230914T210000
DTSTAMP:20260420T110508
CREATED:20230913T000941Z
LAST-MODIFIED:20230913T001001Z
UID:10000067-1694718000-1694725200@ezekielacademy.org
SUMMARY:Varsity Basketball Practice
DESCRIPTION:
URL:https://ezekielacademy.org/event/varisty-basketball-practice/
LOCATION:True Divine\, 4601 Troy Highway\, Montgomery\, 36117\, United States
CATEGORIES:Boys Basketball
END:VEVENT
BEGIN:VEVENT
DTSTART;TZID=America/Chicago:20230915T170000
DTEND;TZID=America/Chicago:20230915T190000
DTSTAMP:20260420T110508
CREATED:20230913T002604Z
LAST-MODIFIED:20230913T002604Z
UID:10000068-1694797200-1694804400@ezekielacademy.org
SUMMARY:Girls Basketball Practice
DESCRIPTION:
URL:https://ezekielacademy.org/event/girls-basketball-practice/
LOCATION:True Divine\, 4601 Troy Highway\, Montgomery\, 36117\, United States
CATEGORIES:Girls Basketball
END:VEVENT
BEGIN:VEVENT
DTSTART;TZID=America/Chicago:20230915T190000
DTEND;TZID=America/Chicago:20230915T190000
DTSTAMP:20260420T110508
CREATED:20230823T140850Z
LAST-MODIFIED:20230914T153931Z
UID:10000058-1694804400-1694804400@ezekielacademy.org
SUMMARY:Ezekiel Academy Varsity Football at Tabernacle Gardendale\, AL
DESCRIPTION:
URL:https://ezekielacademy.org/event/ezekiel-academy-vs-tabernacle/
CATEGORIES:Football
END:VEVENT
BEGIN:VEVENT
DTSTART;TZID=America/Chicago:20230919T150000
DTEND;TZID=America/Chicago:20230919T150000
DTSTAMP:20260420T110508
CREATED:20230809T141754Z
LAST-MODIFIED:20230908T183052Z
UID:10000024-1695135600-1695135600@ezekielacademy.org
SUMMARY:Cross Country:  at Owl Invitational hosted by The Capital School  - Tuscaloosa\, AL Meet (JV and Varsity)
DESCRIPTION:
URL:https://ezekielacademy.org/event/cross-country-the-capital-school-meet-jv-and-varsity/
LOCATION:Munny Skool Park\, 5901 Watermelon Road\, Tuscaloosa\, AL\, 35473\, United States
CATEGORIES:Cross Country
END:VEVENT
BEGIN:VEVENT
DTSTART;TZID=America/Chicago:20230919T173000
DTEND;TZID=America/Chicago:20230919T173000
DTSTAMP:20260420T110508
CREATED:20230809T141722Z
LAST-MODIFIED:20230910T193729Z
UID:10000023-1695144600-1695144600@ezekielacademy.org
SUMMARY:Volleyball:  EA @Tuscaloosa Warriors (JV and Varsity)
DESCRIPTION:
URL:https://ezekielacademy.org/event/volleyball-ea-vs-tuscaloosa-warriors-jv-and-varsity/
LOCATION:Collins RiversideMiddle School\, 1400 3rd St\, Northport\, Alabama\, 35476
CATEGORIES:Volleyball
END:VEVENT
BEGIN:VEVENT
DTSTART;TZID=America/Chicago:20230920T140000
DTEND;TZID=America/Chicago:20230920T150000
DTSTAMP:20260420T110508
CREATED:20230919T193948Z
LAST-MODIFIED:20230919T202452Z
UID:10000070-1695218400-1695222000@ezekielacademy.org
SUMMARY:Final Josten's Order
DESCRIPTION:The orders for the 2024 senior class products are due today at the Ezekiel office.
URL:https://ezekielacademy.org/event/final-jostens-order/
LOCATION:Ezekiel Office\, 8191 Seaton Place\, Montgomery\, Alabama
CATEGORIES:High School Information
END:VEVENT
BEGIN:VEVENT
DTSTART;TZID=America/Chicago:20230921T160000
DTEND;TZID=America/Chicago:20230921T160000
DTSTAMP:20260420T110508
CREATED:20230809T141646Z
LAST-MODIFIED:20230910T193658Z
UID:10000022-1695312000-1695312000@ezekielacademy.org
SUMMARY:Volleyball:  EA @Maxwell (MS)
DESCRIPTION:
URL:https://ezekielacademy.org/event/volleyball-ea-vs-maxwell-ms/
CATEGORIES:Volleyball
END:VEVENT
BEGIN:VEVENT
DTSTART;TZID=America/Chicago:20230922T190000
DTEND;TZID=America/Chicago:20230922T190000
DTSTAMP:20260420T110508
CREATED:20230809T141612Z
LAST-MODIFIED:20230912T192444Z
UID:10000021-1695409200-1695409200@ezekielacademy.org
SUMMARY:Football:  EA at Evangel Christian Academy - Lions (Varsity)
DESCRIPTION:
URL:https://ezekielacademy.org/event/football-ea-vs-evangel-christian-academy-lions-varsity/
LOCATION:Evangel Christian Academy\, 3975 Vaughn Rd\, Montgomery\, Alabama\, 36106
CATEGORIES:Football
END:VEVENT
BEGIN:VEVENT
DTSTART;TZID=America/Chicago:20230924T140000
DTEND;TZID=America/Chicago:20230924T140000
DTSTAMP:20260420T110508
CREATED:20230919T195430Z
LAST-MODIFIED:20230919T202551Z
UID:10000071-1695564000-1695564000@ezekielacademy.org
SUMMARY:Fall Senior Picture Day
DESCRIPTION:This will be an outdoor picture (taken at the entrance of the Church of the Highlands\, 4255 Taylor Road\, Montgomery). Arrive at 1:30 for picture placement as the picture will be taken at 2:00 sharp. Ladies wear a black or white dress\, black or white shoes. Men wear black pants\, white shirt\, black neck or bow tie\, and black shoes. Pictures of class officers and senior class committees (banquet\, social\, etc.) will also be taken. Juniors serving on these committees should attend for these pictures. (In the event of rain\, pictures will be taken inside the building.) There is no charge for these pictures.
URL:https://ezekielacademy.org/event/fall-senior-picture-day/
LOCATION:Church of the Highlands\, 4255 Taylor Road\, Montgomery\, Alabama
CATEGORIES:High School Information
END:VEVENT
BEGIN:VEVENT
DTSTART;TZID=America/Chicago:20230925T150000
DTEND;TZID=America/Chicago:20230925T150000
DTSTAMP:20260420T110509
CREATED:20230809T141424Z
LAST-MODIFIED:20230910T193602Z
UID:10000020-1695654000-1695654000@ezekielacademy.org
SUMMARY:Volleyball:  EA @Evangel Lions (MS\, JV and Varsity)
DESCRIPTION:
URL:https://ezekielacademy.org/event/volleyball-ea-vs-evangel-lions-jv-and-varsity/
LOCATION:Evangel Christian Academy\, 3975 Vaughn Rd\, Montgomery\, Alabama\, 36106
CATEGORIES:Volleyball
END:VEVENT
BEGIN:VEVENT
DTSTART;TZID=America/Chicago:20230925T154500
DTEND;TZID=America/Chicago:20230925T154500
DTSTAMP:20260420T110509
CREATED:20230919T201300Z
LAST-MODIFIED:20230919T202251Z
UID:10000072-1695656700-1695656700@ezekielacademy.org
SUMMARY:Service Club
DESCRIPTION:Meeting at Heritage Baptist Church\, 1849 Perry Hill Road\, Montgomery\, for the first service project of the year.
URL:https://ezekielacademy.org/event/service-club/
LOCATION:Heritage Baptist Church\, 1849 Perry Hill Road\, Montgomery\, 36106
END:VEVENT
BEGIN:VEVENT
DTSTART;TZID=America/Chicago:20230926T150000
DTEND;TZID=America/Chicago:20230926T150000
DTSTAMP:20260420T110509
CREATED:20230807T204938Z
LAST-MODIFIED:20230824T170831Z
UID:10000018-1695740400-1695740400@ezekielacademy.org
SUMMARY:Cross Country:  Southern Prep - Camp Hill\, AL Meet (JV and Varsity)
DESCRIPTION:
URL:https://ezekielacademy.org/event/cross-country-southern-prep-meet-jv-and-varsity/
CATEGORIES:Cross Country
END:VEVENT
BEGIN:VEVENT
DTSTART;TZID=America/Chicago:20230926T160000
DTEND;TZID=America/Chicago:20230926T160000
DTSTAMP:20260420T110509
CREATED:20230807T210024Z
LAST-MODIFIED:20230926T160815Z
UID:10000019-1695744000-1695744000@ezekielacademy.org
SUMMARY:Volleyball:  Wiregrass vs EA (MS\, JV and Varsity)
DESCRIPTION:
URL:https://ezekielacademy.org/event/volleyball-wiregrass-vs-ea-ms-jv-and-varsity/
LOCATION:Lighthouse Christian Academy\, 3570 Bell Rd\, Montgomery\, AL\, 36116
CATEGORIES:Volleyball
END:VEVENT
BEGIN:VEVENT
DTSTART;TZID=America/Chicago:20230928T080000
DTEND;TZID=America/Chicago:20230928T170000
DTSTAMP:20260420T110509
CREATED:20230929T002434Z
LAST-MODIFIED:20240807T204039Z
UID:10000116-1695888000-1695920400@ezekielacademy.org
SUMMARY:Ezekiel verses Evangel Friday!
DESCRIPTION:Wetumpka Sports Complex\nWetumpka\, AL  36092\nUnited States\n7:00
URL:https://ezekielacademy.org/event/ezekiel-verses-evangel-friday/
CATEGORIES:Football
END:VEVENT
BEGIN:VEVENT
DTSTART;TZID=America/Chicago:20230928T173000
DTEND;TZID=America/Chicago:20230928T173000
DTSTAMP:20260420T110509
CREATED:20230807T204908Z
LAST-MODIFIED:20230910T193529Z
UID:10000017-1695922200-1695922200@ezekielacademy.org
SUMMARY:Volleyball:  EA @ECHO (Varsity only)
DESCRIPTION:
URL:https://ezekielacademy.org/event/volleyball-ea-vs-echo-varsity/
LOCATION:Cross Point Church\, 8000 Liles Ln\, Trussville\, Alabama\, 35173
CATEGORIES:Volleyball
END:VEVENT
BEGIN:VEVENT
DTSTART;TZID=America/Chicago:20230929T190000
DTEND;TZID=America/Chicago:20230929T220000
DTSTAMP:20260420T110509
CREATED:20230807T204831Z
LAST-MODIFIED:20230929T155134Z
UID:10000016-1696014000-1696024800@ezekielacademy.org
SUMMARY:Football:  Evangel Lightning comes to EA's FOOTBALL BLACK OUT!
DESCRIPTION:Join your Varsity Football team tonight as they host Evangel at the Wetumkpa Sports Complex! Wear BLACK!
URL:https://ezekielacademy.org/event/football-evangel-lightning-vs-ea-varsity/
LOCATION:Wetumpka Sports Complex\, 2350 Coosa River Parkway\, Wetumpka\, AL\, 36092\, United States
CATEGORIES:Football
END:VEVENT
BEGIN:VEVENT
DTSTART;TZID=America/Chicago:20230930T100000
DTEND;TZID=America/Chicago:20230930T100000
DTSTAMP:20260420T110509
CREATED:20230807T204802Z
LAST-MODIFIED:20230926T160935Z
UID:10000015-1696068000-1696068000@ezekielacademy.org
SUMMARY:Volleyball:  Tuscaloosa Warriors vs EA (JV and Varsity)
DESCRIPTION:
URL:https://ezekielacademy.org/event/volleyball-tuscaloosa-warriors-vs-ea-jv-and-varsity/
LOCATION:Lighthouse Christian Academy\, 3570 Bell Rd\, Montgomery\, AL\, 36116
CATEGORIES:Volleyball
END:VEVENT
BEGIN:VEVENT
DTSTART;VALUE=DATE:20231002
DTEND;VALUE=DATE:20231003
DTSTAMP:20260420T110509
CREATED:20230919T204223Z
LAST-MODIFIED:20230919T212851Z
UID:10000073-1696204800-1696291199@ezekielacademy.org
SUMMARY:ETA SIGMA ALPHA National Honor Society application deadline for '24 seniors
DESCRIPTION:Deadline for 2024 seniors to apply. Contact Desiree Wales dwaleshonorsociety@gmail.com.
URL:https://ezekielacademy.org/event/eta-sigma-alpha-national-honor-society/
ORGANIZER;CN="Desiree Wales%2C Sponsor":MAILTO:dwaleshonorsociety@gmail.com
END:VEVENT
BEGIN:VEVENT
DTSTART;VALUE=DATE:20231002
DTEND;VALUE=DATE:20231003
DTSTAMP:20260420T110509
CREATED:20230919T204611Z
LAST-MODIFIED:20230919T204750Z
UID:10000074-1696204800-1696291199@ezekielacademy.org
SUMMARY:PSAT Testing Registration Deadline
DESCRIPTION:Any EA tenth or eleventh grade student who desires to take the PSAT test should contact a local high school about making reservations at that school as a homeschool student. A student must take the PSAT the third year of high school to qualify for the National Merit Scholarship Program.
URL:https://ezekielacademy.org/event/psat-testing-registration-deadline/
END:VEVENT
BEGIN:VEVENT
DTSTART;TZID=America/Chicago:20231002T100000
DTEND;TZID=America/Chicago:20231002T120000
DTSTAMP:20260420T110509
CREATED:20230914T190105Z
LAST-MODIFIED:20230914T190105Z
UID:10000069-1696240800-1696248000@ezekielacademy.org
SUMMARY:Senior Drape and Tuxedo Pictures   October 2nd 10-12 only Lakeview Baptist Church 8225 Atlanta Highway
DESCRIPTION:sign up with this link \nhttps://www.signupgenius.com/go/5080D4EAFAC22A2F94-senior#/
URL:https://ezekielacademy.org/event/senior-drape-and-tuxedo-pictures-october-2nd-10-12-only-lakeview-baptist-church-8225-atlanta-highway/
LOCATION:Lake View Baptist Church
END:VEVENT
BEGIN:VEVENT
DTSTART;TZID=America/Chicago:20231003T150000
DTEND;TZID=America/Chicago:20231003T150000
DTSTAMP:20260420T110509
CREATED:20230807T204238Z
LAST-MODIFIED:20230824T170947Z
UID:10000012-1696345200-1696345200@ezekielacademy.org
SUMMARY:Cross Country:  Heritage Christian\, Bessemer Academy - McCalla\, AL Meet (JV and Varsity)
DESCRIPTION:
URL:https://ezekielacademy.org/event/cross-country-heritage-christian-meet-jv-and-varsity/
CATEGORIES:Cross Country
END:VEVENT
BEGIN:VEVENT
DTSTART;TZID=America/Chicago:20231003T160000
DTEND;TZID=America/Chicago:20231003T160000
DTSTAMP:20260420T110509
CREATED:20230807T204653Z
LAST-MODIFIED:20230910T193449Z
UID:10000014-1696348800-1696348800@ezekielacademy.org
SUMMARY:Volleyball:  EA @Maxwell (MS)
DESCRIPTION:
URL:https://ezekielacademy.org/event/volleyball-ea-vs-maxwell-ms-2/
CATEGORIES:Volleyball
END:VEVENT
BEGIN:VEVENT
DTSTART;TZID=America/Chicago:20231005T160000
DTEND;TZID=America/Chicago:20231005T160000
DTSTAMP:20260420T110509
CREATED:20230807T204207Z
LAST-MODIFIED:20230910T193423Z
UID:10000011-1696521600-1696521600@ezekielacademy.org
SUMMARY:Volleyball:  EA @Evangel (JV and Varsity)
DESCRIPTION:
URL:https://ezekielacademy.org/event/volleyball-ea-vs-evangel-jv-and-varsity/
LOCATION:Evangel Sports Complex\, 6020 Hwy 119\, Montevallo\, Alabama\, 35115
CATEGORIES:Volleyball
END:VEVENT
BEGIN:VEVENT
DTSTART;TZID=America/Chicago:20231006T184000
DTEND;TZID=America/Chicago:20231006T184000
DTSTAMP:20260420T110509
CREATED:20230807T204133Z
LAST-MODIFIED:20230912T192931Z
UID:10000010-1696617600-1696617600@ezekielacademy.org
SUMMARY:Football:  EA at ECHO (Varsity)
DESCRIPTION:
URL:https://ezekielacademy.org/event/football-ea-vs-echo-varsity/
END:VEVENT
BEGIN:VEVENT
DTSTART;TZID=America/Chicago:20231006T190000
DTEND;TZID=America/Chicago:20231006T190000
DTSTAMP:20260420T110509
CREATED:20230823T141045Z
LAST-MODIFIED:20231005T185524Z
UID:10000061-1696618800-1696618800@ezekielacademy.org
SUMMARY:Ezekiel Academy at  East Central Home School Pinson\, AL
DESCRIPTION:
URL:https://ezekielacademy.org/event/ezekiel-academy-vs-east-central-home-school/
CATEGORIES:Football
END:VEVENT
BEGIN:VEVENT
DTSTART;TZID=America/Chicago:20231010T160000
DTEND;TZID=America/Chicago:20231010T160000
DTSTAMP:20260420T110509
CREATED:20230807T203901Z
LAST-MODIFIED:20230926T161021Z
UID:10000009-1696953600-1696953600@ezekielacademy.org
SUMMARY:Volleyball:  Maxwell vs EA (MS)
DESCRIPTION:
URL:https://ezekielacademy.org/event/volleyball-maxwell-vs-ea-ms/
LOCATION:Lighthouse Christian Academy\, 3570 Bell Rd\, Montgomery\, AL\, 36116
CATEGORIES:Volleyball
END:VEVENT
BEGIN:VEVENT
DTSTART;TZID=America/Chicago:20231010T170000
DTEND;TZID=America/Chicago:20231010T170000
DTSTAMP:20260420T110509
CREATED:20230807T203825Z
LAST-MODIFIED:20230926T161043Z
UID:10000008-1696957200-1696957200@ezekielacademy.org
SUMMARY:Volleyball:  Southern Christian vs EA (JV and Varsity)
DESCRIPTION:
URL:https://ezekielacademy.org/event/volleyball-southern-christian-vs-ea-jv-and-varsity/
LOCATION:Lighthouse Christian Academy\, 3570 Bell Rd\, Montgomery\, AL\, 36116
CATEGORIES:Volleyball
END:VEVENT
END:VCALENDAR