BEGIN:VCALENDAR
VERSION:2.0
PRODID:-//Ezekiel Academy - ECPv6.15.20//NONSGML v1.0//EN
CALSCALE:GREGORIAN
METHOD:PUBLISH
X-WR-CALNAME:Ezekiel Academy
X-ORIGINAL-URL:https://ezekielacademy.org
X-WR-CALDESC:Events for Ezekiel Academy
REFRESH-INTERVAL;VALUE=DURATION:PT1H
X-Robots-Tag:noindex
X-PUBLISHED-TTL:PT1H
BEGIN:VTIMEZONE
TZID:America/Chicago
BEGIN:DAYLIGHT
TZOFFSETFROM:-0600
TZOFFSETTO:-0500
TZNAME:CDT
DTSTART:20220313T080000
END:DAYLIGHT
BEGIN:STANDARD
TZOFFSETFROM:-0500
TZOFFSETTO:-0600
TZNAME:CST
DTSTART:20221106T070000
END:STANDARD
BEGIN:DAYLIGHT
TZOFFSETFROM:-0600
TZOFFSETTO:-0500
TZNAME:CDT
DTSTART:20230312T080000
END:DAYLIGHT
BEGIN:STANDARD
TZOFFSETFROM:-0500
TZOFFSETTO:-0600
TZNAME:CST
DTSTART:20231105T070000
END:STANDARD
BEGIN:DAYLIGHT
TZOFFSETFROM:-0600
TZOFFSETTO:-0500
TZNAME:CDT
DTSTART:20240310T080000
END:DAYLIGHT
BEGIN:STANDARD
TZOFFSETFROM:-0500
TZOFFSETTO:-0600
TZNAME:CST
DTSTART:20241103T070000
END:STANDARD
BEGIN:DAYLIGHT
TZOFFSETFROM:-0600
TZOFFSETTO:-0500
TZNAME:CDT
DTSTART:20250309T080000
END:DAYLIGHT
BEGIN:STANDARD
TZOFFSETFROM:-0500
TZOFFSETTO:-0600
TZNAME:CST
DTSTART:20251102T070000
END:STANDARD
END:VTIMEZONE
BEGIN:VEVENT
DTSTART;VALUE=DATE:20240109
DTEND;VALUE=DATE:20240112
DTSTAMP:20260420T012703
CREATED:20230920T154347Z
LAST-MODIFIED:20230920T154347Z
UID:10000085-1704758400-1705017599@ezekielacademy.org
SUMMARY:1st Semester Reports DUE NOW!
DESCRIPTION:Mail your report(s) to Ezekiel Academy\, P.O. Box 243034\, Montgomery\, AL 36124-3034. Please do not submit these reports by email.
URL:https://ezekielacademy.org/event/1st-semester-reports-due-now/
END:VEVENT
BEGIN:VEVENT
DTSTART;TZID=America/Chicago:20240108T180000
DTEND;TZID=America/Chicago:20240108T200000
DTSTAMP:20260420T012703
CREATED:20231024T172025Z
LAST-MODIFIED:20231024T172025Z
UID:10000143-1704736800-1704744000@ezekielacademy.org
SUMMARY:Basketball:  Central Christian vs EA (JVB and VB)
DESCRIPTION:
URL:https://ezekielacademy.org/event/basketball-central-christian-vs-ea-jvb-and-vb/
LOCATION:True Divine\, 4601 Troy Highway\, Montgomery\, 36117\, United States
CATEGORIES:Boys Basketball
END:VEVENT
BEGIN:VEVENT
DTSTART;TZID=America/Chicago:20240108T150000
DTEND;TZID=America/Chicago:20240108T170000
DTSTAMP:20260420T012703
CREATED:20231024T171907Z
LAST-MODIFIED:20231024T171907Z
UID:10000142-1704726000-1704733200@ezekielacademy.org
SUMMARY:Basketball:  EA vs Maxwell (MSG and MSB)
DESCRIPTION:
URL:https://ezekielacademy.org/event/basketball-ea-vs-maxwell-msg-and-msb-2/
LOCATION:Maxwell AFB\, 800 Magnolia Blvd\, Montgomery\, AL\, 36112\, United States
CATEGORIES:Boys Basketball,Girls Basketball
END:VEVENT
BEGIN:VEVENT
DTSTART;TZID=America/Chicago:20240105T160000
DTEND;TZID=America/Chicago:20240105T190000
DTSTAMP:20260420T012703
CREATED:20231024T171801Z
LAST-MODIFIED:20231024T171801Z
UID:10000141-1704470400-1704481200@ezekielacademy.org
SUMMARY:Basketball:  Wiregrass Kings vs EA (MSB\, JVB and VB)
DESCRIPTION:
URL:https://ezekielacademy.org/event/basketball-wiregrass-kings-vs-ea-msb-jvb-and-vb-2/
LOCATION:True Divine\, 4601 Troy Highway\, Montgomery\, 36117\, United States
CATEGORIES:Boys Basketball
END:VEVENT
BEGIN:VEVENT
DTSTART;TZID=America/Chicago:20240104T160000
DTEND;TZID=America/Chicago:20240104T190000
DTSTAMP:20260420T012703
CREATED:20231024T171249Z
LAST-MODIFIED:20231024T171249Z
UID:10000139-1704384000-1704394800@ezekielacademy.org
SUMMARY:Basketball:  EA vs Heritage Christian (JHB\, VG and VB)
DESCRIPTION:
URL:https://ezekielacademy.org/event/basketball-ea-vs-heritage-christian-jhb-vg-and-vb/
LOCATION:HCA Athletic Complex\, 1630 Powder Plant Rd\, Bessemer\, AL\, 35022\, United States
CATEGORIES:Boys Basketball,Girls Basketball
END:VEVENT
BEGIN:VEVENT
DTSTART;TZID=America/Chicago:20231229T150000
DTEND;TZID=America/Chicago:20231229T170000
DTSTAMP:20260420T012703
CREATED:20231024T171106Z
LAST-MODIFIED:20231024T171106Z
UID:10000138-1703862000-1703869200@ezekielacademy.org
SUMMARY:Basketball:  EA vs Chambers Academy (VG and VB)
DESCRIPTION:
URL:https://ezekielacademy.org/event/basketball-ea-vs-chambers-academy-vg-and-vb/
LOCATION:Chambers Academy\, 15048 US 431\, LaFayette\, AL\, 36862\, United States
CATEGORIES:Boys Basketball,Girls Basketball
END:VEVENT
BEGIN:VEVENT
DTSTART;TZID=America/Chicago:20231221T180000
DTEND;TZID=America/Chicago:20231221T210000
DTSTAMP:20260420T012703
CREATED:20231215T151235Z
LAST-MODIFIED:20240807T200345Z
UID:10000154-1703181600-1703192400@ezekielacademy.org
SUMMARY:Senior Class Christmas Party
DESCRIPTION:
URL:https://ezekielacademy.org/event/senior-class-christmas-party/
LOCATION:The Barn in Elecectic\, 594 Pleasant Hill Road\, Eclectic\, Alabama\, 36024\, United States
CATEGORIES:Senior Class 2024
END:VEVENT
BEGIN:VEVENT
DTSTART;VALUE=DATE:20231215
DTEND;VALUE=DATE:20240110
DTSTAMP:20260420T012703
CREATED:20230920T154031Z
LAST-MODIFIED:20230920T154031Z
UID:10000084-1702598400-1704844799@ezekielacademy.org
SUMMARY:Christmas/ New Year's Break: Ezekiel Office Closed
DESCRIPTION:Have a Blessed Christmas and a Happy New Year!
URL:https://ezekielacademy.org/event/christmas-new-years-break-ezekiel-office-closed/
END:VEVENT
BEGIN:VEVENT
DTSTART;VALUE=DATE:20231215
DTEND;VALUE=DATE:20231217
DTSTAMP:20260420T012703
CREATED:20231024T170821Z
LAST-MODIFIED:20231024T170821Z
UID:10000137-1702598400-1702771199@ezekielacademy.org
SUMMARY:Basketball:  Abbeville Christian Tournament (JHG\, JHB\, VG and VB)
DESCRIPTION:
URL:https://ezekielacademy.org/event/basketball-abbeville-christian-tournament-jhg-jhb-vg-and-vb/
LOCATION:Abbeville Christian\, 258 ML Tillis Dr\, Abbeville\, AL\, 36310\, United States
CATEGORIES:Boys Basketball,Girls Basketball
END:VEVENT
BEGIN:VEVENT
DTSTART;TZID=America/Chicago:20231212T170000
DTEND;TZID=America/Chicago:20231212T200000
DTSTAMP:20260420T012703
CREATED:20231024T170546Z
LAST-MODIFIED:20231024T170546Z
UID:10000136-1702400400-1702411200@ezekielacademy.org
SUMMARY:Basketball:  Southern Christian vs EA (JVB\, VG and VB)
DESCRIPTION:
URL:https://ezekielacademy.org/event/basketball-southern-christian-vs-ea-jvb-vg-and-vb/
LOCATION:True Divine\, 4601 Troy Highway\, Montgomery\, 36117\, United States
CATEGORIES:Boys Basketball,Girls Basketball
END:VEVENT
BEGIN:VEVENT
DTSTART;TZID=America/Chicago:20231211T160000
DTEND;TZID=America/Chicago:20231211T180000
DTSTAMP:20260420T012703
CREATED:20231024T170411Z
LAST-MODIFIED:20231024T170411Z
UID:10000135-1702310400-1702317600@ezekielacademy.org
SUMMARY:Basketball:  EA vs Maxwell (MSG and MSB)
DESCRIPTION:
URL:https://ezekielacademy.org/event/basketball-ea-vs-maxwell-msg-and-msb/
LOCATION:Maxwell AFB\, 800 Magnolia Blvd\, Montgomery\, AL\, 36112\, United States
CATEGORIES:Boys Basketball,Girls Basketball
END:VEVENT
BEGIN:VEVENT
DTSTART;TZID=America/Chicago:20231208T160000
DTEND;TZID=America/Chicago:20231208T200000
DTSTAMP:20260420T012703
CREATED:20231024T170051Z
LAST-MODIFIED:20231024T170051Z
UID:10000134-1702051200-1702065600@ezekielacademy.org
SUMMARY:Basketball:  Evangel Lightning vs EA (JVG\, JVB\, VG and VB)
DESCRIPTION:
URL:https://ezekielacademy.org/event/basketball-evangel-lightning-vs-ea-jvg-jvb-vg-and-vb/
LOCATION:True Divine\, 4601 Troy Highway\, Montgomery\, 36117\, United States
END:VEVENT
BEGIN:VEVENT
DTSTART;TZID=America/Chicago:20231207T180000
DTEND;TZID=America/Chicago:20231207T200000
DTSTAMP:20260420T012703
CREATED:20230920T151756Z
LAST-MODIFIED:20230920T151756Z
UID:10000083-1701972000-1701979200@ezekielacademy.org
SUMMARY:Baseball\, Softball\, and Soccer Registration
DESCRIPTION:
URL:https://ezekielacademy.org/event/baseball-softball-and-soccer-registration/
LOCATION:Heritage Baptist Church\, 1849 Perry Hill Road\, Montgomery\, 36106
CATEGORIES:Baseball,Soccer,Softball
END:VEVENT
BEGIN:VEVENT
DTSTART;TZID=America/Chicago:20231207T170000
DTEND;TZID=America/Chicago:20231207T200000
DTSTAMP:20260420T012703
CREATED:20231024T165851Z
LAST-MODIFIED:20231024T165851Z
UID:10000133-1701968400-1701979200@ezekielacademy.org
SUMMARY:Basketball:  Success Unlimited vs EA (JHB\, VG\, VB)
DESCRIPTION:
URL:https://ezekielacademy.org/event/basketball-success-unlimited-vs-ea-jhb-vg-vb/
CATEGORIES:Boys Basketball,Girls Basketball
END:VEVENT
BEGIN:VEVENT
DTSTART;TZID=America/Chicago:20231205T160000
DTEND;TZID=America/Chicago:20231205T190000
DTSTAMP:20260420T012703
CREATED:20231024T165717Z
LAST-MODIFIED:20231024T165717Z
UID:10000132-1701792000-1701802800@ezekielacademy.org
SUMMARY:Basketball:  Heritage Christian vs EA (JHB\, JHG and VB)
DESCRIPTION:
URL:https://ezekielacademy.org/event/basketball-heritage-christian-vs-ea-jhb-jhg-and-vb/
CATEGORIES:Boys Basketball,Girls Basketball
END:VEVENT
BEGIN:VEVENT
DTSTART;TZID=America/Chicago:20231204T160000
DTEND;TZID=America/Chicago:20231204T200000
DTSTAMP:20260420T012703
CREATED:20231024T165547Z
LAST-MODIFIED:20231024T165547Z
UID:10000131-1701705600-1701720000@ezekielacademy.org
SUMMARY:Basketball:  Abbeville Christian vs EA (JHG\, JHB\, VG and VB)
DESCRIPTION:
URL:https://ezekielacademy.org/event/basketball-abbeville-christian-vs-ea-jhg-jhb-vg-and-vb/
LOCATION:True Divine\, 4601 Troy Highway\, Montgomery\, 36117\, United States
END:VEVENT
BEGIN:VEVENT
DTSTART;TZID=America/Chicago:20231202T140000
DTEND;TZID=America/Chicago:20231202T160000
DTSTAMP:20260420T012703
CREATED:20230920T151021Z
LAST-MODIFIED:20230920T151021Z
UID:10000082-1701525600-1701532800@ezekielacademy.org
SUMMARY:Little Dribblers Registration
DESCRIPTION:Students in grades 1-6 will have the opportunity to learn the game of basketball. We will use 3 Saturdays in December to teach skills and then on January 7 we will divide the students into teams by grades to compete against one another on Saturdays through January. The cost is $50 per student. Registration will be at the Lighthouse Christian Academy gym.
URL:https://ezekielacademy.org/event/little-dribblers-registration/
LOCATION:Lighthouse Christian Academy\, 3570 Bell Rd\, Montgomery\, AL\, 36116
CATEGORIES:Little Dribblers Basketball
END:VEVENT
BEGIN:VEVENT
DTSTART;TZID=America/Chicago:20231201T173000
DTEND;TZID=America/Chicago:20231201T213000
DTSTAMP:20260420T012703
CREATED:20231024T165415Z
LAST-MODIFIED:20231024T165415Z
UID:10000130-1701451800-1701466200@ezekielacademy.org
SUMMARY:Basketball:  EA vs Tuscaloosa Warriors (JVG\, JVB\, VG and VB)
DESCRIPTION:
URL:https://ezekielacademy.org/event/basketball-ea-vs-tuscaloosa-warriors-jvg-jvb-vg-and-vb/
CATEGORIES:Boys Basketball,Girls Basketball
END:VEVENT
BEGIN:VEVENT
DTSTART;TZID=America/Chicago:20231130T150000
DTEND;TZID=America/Chicago:20231130T180000
DTSTAMP:20260420T012703
CREATED:20231024T164902Z
LAST-MODIFIED:20231024T164902Z
UID:10000129-1701356400-1701367200@ezekielacademy.org
SUMMARY:Basketball:  The Oaks vs EA (MSB\, JHG and VB)
DESCRIPTION:
URL:https://ezekielacademy.org/event/basketball-the-oaks-vs-ea-msb-jhg-and-vb/
LOCATION:True Divine\, 4601 Troy Highway\, Montgomery\, 36117\, United States
END:VEVENT
BEGIN:VEVENT
DTSTART;TZID=America/Chicago:20231128T160000
DTEND;TZID=America/Chicago:20231128T180000
DTSTAMP:20260420T012703
CREATED:20231024T164743Z
LAST-MODIFIED:20231024T164743Z
UID:10000128-1701187200-1701194400@ezekielacademy.org
SUMMARY:Basketball:  EA vs Restoration Academy (JHG and VG)
DESCRIPTION:
URL:https://ezekielacademy.org/event/basketball-ea-vs-restoration-academy-jhg-and-vg/
LOCATION:restoration academy\, 4801 Gary Ave\, Fairfield\, AL\, 35064\, United States
CATEGORIES:Girls Basketball
END:VEVENT
BEGIN:VEVENT
DTSTART;TZID=America/Chicago:20231127T170000
DTEND;TZID=America/Chicago:20231127T190000
DTSTAMP:20260420T012703
CREATED:20231024T164436Z
LAST-MODIFIED:20231024T164436Z
UID:10000127-1701104400-1701111600@ezekielacademy.org
SUMMARY:Basketball:  EA vs Central Christian Academy (JVB and VB)
DESCRIPTION:
URL:https://ezekielacademy.org/event/basketball-ea-vs-central-christian-academy-jvb-and-vb/
CATEGORIES:Boys Basketball
END:VEVENT
BEGIN:VEVENT
DTSTART;VALUE=DATE:20231121
DTEND;VALUE=DATE:20231123
DTSTAMP:20260420T012703
CREATED:20231024T164305Z
LAST-MODIFIED:20231026T160245Z
UID:10000126-1700524800-1700697599@ezekielacademy.org
SUMMARY:Basketball:  John Allen Memorial Tournament - Heritage Christian (VG and VB)
DESCRIPTION:11/20 \nVG vs Chambers Academy @ 3:00pm \nVB vs Heritage Christian Academy @ 6:00pm \n  \n11/21 – Girls Brackets @ 1:30pm \nBoys Brackets @ 4:30pm
URL:https://ezekielacademy.org/event/basketball-heritage-christian-thanksgiving-tournament-vg-and-vb/
LOCATION:HCA Athletic Complex\, 1630 Powder Plant Rd\, Bessemer\, AL\, 35022\, United States
CATEGORIES:Boys Basketball,Girls Basketball
END:VEVENT
BEGIN:VEVENT
DTSTART;VALUE=DATE:20231120
DTEND;VALUE=DATE:20231125
DTSTAMP:20260420T012703
CREATED:20230920T020155Z
LAST-MODIFIED:20230920T020155Z
UID:10000081-1700438400-1700870399@ezekielacademy.org
SUMMARY:Thanksgiving Break: Ezekiel Academy Office Closed
DESCRIPTION:Have a blessed and happy Thanksgiving!
URL:https://ezekielacademy.org/event/thanksgiving-break-ezekiel-academy-office-closed/
END:VEVENT
BEGIN:VEVENT
DTSTART;TZID=America/Chicago:20231118T130000
DTEND;TZID=America/Chicago:20231118T170000
DTSTAMP:20260420T012703
CREATED:20231024T163916Z
LAST-MODIFIED:20231024T163916Z
UID:10000125-1700312400-1700326800@ezekielacademy.org
SUMMARY:Basketball:  Restoration Academy vs EA (JHG\, JHB\, VG and VB)
DESCRIPTION:
URL:https://ezekielacademy.org/event/basketball-restoration-academy-vs-ea-jhg-jhb-vg-and-vb/
LOCATION:True Divine\, 4601 Troy Highway\, Montgomery\, 36117\, United States
CATEGORIES:Boys Basketball,Girls Basketball
END:VEVENT
BEGIN:VEVENT
DTSTART;TZID=America/Chicago:20231116T180000
DTEND;TZID=America/Chicago:20231116T200000
DTSTAMP:20260420T012703
CREATED:20231024T163746Z
LAST-MODIFIED:20231024T163746Z
UID:10000124-1700157600-1700164800@ezekielacademy.org
SUMMARY:Basketball:  Eastwood vs EA (VG and VB)
DESCRIPTION:
URL:https://ezekielacademy.org/event/basketball-eastwood-vs-ea-vg-and-vb-2/
LOCATION:True Divine\, 4601 Troy Highway\, Montgomery\, 36117\, United States
CATEGORIES:Boys Basketball,Girls Basketball
END:VEVENT
BEGIN:VEVENT
DTSTART;TZID=America/Chicago:20231116T160000
DTEND;TZID=America/Chicago:20231116T180000
DTSTAMP:20260420T012703
CREATED:20231024T163630Z
LAST-MODIFIED:20231024T163630Z
UID:10000123-1700150400-1700157600@ezekielacademy.org
SUMMARY:Basketball:  Maxwell vs EA (MSG and MSB)
DESCRIPTION:
URL:https://ezekielacademy.org/event/basketball-maxwell-vs-ea-msg-and-msb-2/
LOCATION:True Divine\, 4601 Troy Highway\, Montgomery\, 36117\, United States
CATEGORIES:Boys Basketball,Girls Basketball
END:VEVENT
BEGIN:VEVENT
DTSTART;TZID=America/Chicago:20231114T043000
DTEND;TZID=America/Chicago:20231114T203000
DTSTAMP:20260420T012703
CREATED:20231024T163501Z
LAST-MODIFIED:20231024T163501Z
UID:10000122-1699936200-1699993800@ezekielacademy.org
SUMMARY:Basketball:  EA vs Ballard (MSG\, MSB\, JVB and VG)
DESCRIPTION:
URL:https://ezekielacademy.org/event/basketball-ea-vs-ballard-msg-msb-jvb-and-vg/
LOCATION:Ballard Christian School\, 1415 Moores Mill Road\, Auburn\, AL\, 36830\, United States
CATEGORIES:Boys Basketball,Girls Basketball
END:VEVENT
BEGIN:VEVENT
DTSTART;TZID=America/Chicago:20231110T180000
DTEND;TZID=America/Chicago:20231110T213000
DTSTAMP:20260420T012703
CREATED:20231024T163249Z
LAST-MODIFIED:20231024T163249Z
UID:10000121-1699639200-1699651800@ezekielacademy.org
SUMMARY:Basketball:  MidKnight Madness (All Teams)
DESCRIPTION:
URL:https://ezekielacademy.org/event/basketball-midknight-madness-all-teams/
LOCATION:True Divine\, 4601 Troy Highway\, Montgomery\, 36117\, United States
CATEGORIES:Boys Basketball,Girls Basketball
END:VEVENT
BEGIN:VEVENT
DTSTART;VALUE=DATE:20231110
DTEND;VALUE=DATE:20231112
DTSTAMP:20260420T012703
CREATED:20230804T194035Z
LAST-MODIFIED:20230824T171201Z
UID:10000001-1699574400-1699747199@ezekielacademy.org
SUMMARY:Cross Country:  NACA - Dayton\, TN Meet (JV and Varsity)
DESCRIPTION:
URL:https://ezekielacademy.org/event/cross-country-naca-meet-jv-and-varsity/
CATEGORIES:Cross Country
END:VEVENT
BEGIN:VEVENT
DTSTART;TZID=America/Chicago:20231109T180000
DTEND;TZID=America/Chicago:20231109T200000
DTSTAMP:20260420T012703
CREATED:20231024T163120Z
LAST-MODIFIED:20231024T163120Z
UID:10000120-1699552800-1699560000@ezekielacademy.org
SUMMARY:Basketball:  Eastwood vs EA (VG and VB)
DESCRIPTION:
URL:https://ezekielacademy.org/event/basketball-eastwood-vs-ea-vg-and-vb/
LOCATION:True Divine\, 4601 Troy Highway\, Montgomery\, 36117\, United States
CATEGORIES:Boys Basketball,Girls Basketball
END:VEVENT
END:VCALENDAR